BEGIN:VCALENDAR
VERSION:2.0
PRODID:-//ChamberMaster//Event Calendar 2.0//EN
METHOD:PUBLISH
X-PUBLISHED-TTL:P3D
REFRESH-INTERVAL:P3D
CALSCALE:GREGORIAN
BEGIN:VEVENT
DTSTART:20261221T163000Z
DTEND:20261221T190000Z
X-MICROSOFT-CDO-ALLDAYEVENT:FALSE
SUMMARY:High Tea Cruise w/ Santa and Mrs. Claus Aboard the Barbara Lee
DESCRIPTION:?? Santa & Mrs. Claus High Tea Cruise\n\n\n\nAboard the Barbara Lee | Hosted by St. Johns Rivership Co\n\n\n\nCelebrate the magic of the season with a festive Santa & Mrs. Claus High Tea Cruise aboard the elegant Barbara Lee! Enjoy a charming 2-hour holiday cruise filled with delicious treats\, warm beverages\, and a special meet & greet with Santa and Mrs. Claus.\n\n\n\n? This unforgettable experience includes unlimited savory tea sandwiches\, freshly baked scones with sweet cream\, plenty of delightful sweets\, and unlimited tea selections. Coffee\, iced tea\, and hot tea are included\, with a full bar available for purchase.\n\n\n\nBring your camera and capture magical holiday memories as you cruise along the beautiful Lake Monroe and the St. Johns River. Guests will enjoy reserved seating in enclosed\, climate-controlled dining areas\, plus access to outdoor viewing decks for scenic holiday views.\n\n\n\n?? Event Details\n\n\n\nDate: December 21\, 2026\n\nBoarding Time: 11:30 AM\n\nCruise Time: 12:00 PM   2:00 PM\n\nDuration: 2 Hours\n\n\n\n?? Ticket Pricing\n\n\n\n$45.00 per adult\n\n\n\n$20.00 per child (ages 4 14)\n\n\n\nInfants (3 & under): Free (ticket required)\n\n\n\n? Includes\n\n\n\nUnlimited savory tea sandwiches\n\n\n\nDelicious scones with sweet cream\n\n\n\nAssorted holiday desserts\n\n\n\nUnlimited tea selections\n\n\n\nCoffee\, hot tea & iced tea included\n\n\n\nMeet & Greet with Santa & Mrs. Claus\n\n\n\nReserved table seating\n\n\n\nEnclosed dining + outdoor viewing decks\n\n\n\nFull cash bar available for purchase\n\n\n\n?? Perfect for Families\, Friends & Holiday Traditions!\n\n\n\nThis festive high tea cruise is the perfect way to start your Christmas celebrations with loved ones full of magic\, memories\, and holiday cheer on the water.
X-ALT-DESC;FMTTYPE=text/html:?? Santa &amp\; Mrs. Claus High Tea Cruise<br />\n<br />\nAboard the Barbara Lee | Hosted by St. Johns Rivership Co<br />\n<br />\nCelebrate the magic of the season with a festive Santa &amp\; Mrs. Claus High Tea Cruise aboard the elegant Barbara Lee! Enjoy a charming 2-hour holiday cruise filled with delicious treats\, warm beverages\, and a special meet &amp\; greet with Santa and Mrs. Claus.<br />\n<br />\n? This unforgettable experience includes unlimited savory tea sandwiches\, freshly baked scones with sweet cream\, plenty of delightful sweets\, and unlimited tea selections. Coffee\, iced tea\, and hot tea are included\, with a full bar available for purchase.<br />\n<br />\nBring your camera and capture magical holiday memories as you cruise along the beautiful Lake Monroe and the St. Johns River. Guests will enjoy reserved seating in enclosed\, climate-controlled dining areas\, plus access to outdoor viewing decks for scenic holiday views.<br />\n<br />\n?? Event Details<br />\n<br />\nDate: December 21\, 2026<br />\nBoarding Time: 11:30 AM<br />\nCruise Time: 12:00 PM &ndash\; 2:00 PM<br />\nDuration: 2 Hours<br />\n<br />\n?? Ticket Pricing<br />\n<br />\n$45.00 per adult<br />\n<br />\n$20.00 per child (ages 4&ndash\;14)<br />\n<br />\nInfants (3 &amp\; under): Free (ticket required)<br />\n<br />\n? Includes<br />\n<br />\nUnlimited savory tea sandwiches<br />\n<br />\nDelicious scones with sweet cream<br />\n<br />\nAssorted holiday desserts<br />\n<br />\nUnlimited tea selections<br />\n<br />\nCoffee\, hot tea &amp\; iced tea included<br />\n<br />\nMeet &amp\; Greet with Santa &amp\; Mrs. Claus<br />\n<br />\nReserved table seating<br />\n<br />\nEnclosed dining + outdoor viewing decks<br />\n<br />\nFull cash bar available for purchase<br />\n<br />\n?? Perfect for Families\, Friends &amp\; Holiday Traditions!<br />\n<br />\nThis festive high tea cruise is the perfect way to start your Christmas celebrations with loved ones&mdash\;full of magic\, memories\, and holiday cheer on the water.
LOCATION:St Johns Rivership Co 433 N Palmetto Ave Sanford\, Florida 32771 321-441-3030 Free Parking
UID:e.2138.40658
SEQUENCE:3
DTSTAMP:20260421T105936Z
URL:http://business.seminolebusiness.org/events/details/high-tea-cruise-w-santa-and-mrs-claus-aboard-the-barbara-lee-40658
END:VEVENT

END:VCALENDAR
