BEGIN:VCALENDAR
VERSION:2.0
PRODID:-//ChamberMaster//Event Calendar 2.0//EN
METHOD:PUBLISH
X-PUBLISHED-TTL:P3D
REFRESH-INTERVAL:P3D
CALSCALE:GREGORIAN
BEGIN:VEVENT
DTSTART:20260506T220000Z
DTEND:20260507T000000Z
X-MICROSOFT-CDO-ALLDAYEVENT:FALSE
SUMMARY:Joe Nester Technology Recovery Center Ribbon Cutting
DESCRIPTION:You are invited to be part of a meaningful and impactful evening as we celebrate the Ribbon Cutting for the new Computer Lab at Recovery House of Central Florida. This incredible addition\, generously contributed by Christian Tech Center Ministries\, will provide valuable resources and opportunities for individuals on their journey to recovery. This special dedication is held in honor of Joe Nester\, recognizing his legacy and the lasting difference this lab will make in the lives of so many. Come show your support\, connect with fellow community members\, and be part of something truly meaningful. Together\, we are building a stronger\, more empowered community.
X-ALT-DESC;FMTTYPE=text/html:<p>You are invited to be part of a meaningful and impactful evening as we celebrate the Ribbon Cutting for the new Computer Lab at Recovery House of Central Florida. This incredible addition\, generously contributed by Christian Tech Center Ministries\, will provide valuable resources and opportunities for individuals on their journey to recovery. This special dedication is held in honor of Joe Nester\, recognizing his legacy and the lasting difference this lab will make in the lives of so many. Come show your support\, connect with fellow community members\, and be part of something truly meaningful. Together\, we are building a stronger\, more empowered community.</p>\n
LOCATION:Recovery House of Central Florida 401 Pecan Ave Sanford\, FL 32771
UID:e.2138.42606
SEQUENCE:3
DTSTAMP:20260421T164747Z
URL:http://business.seminolebusiness.org/events/details/joe-nester-technology-recovery-center-ribbon-cutting-42606
END:VEVENT

END:VCALENDAR
