BEGIN:VCALENDAR
VERSION:2.0
PRODID:-//ChamberMaster//Event Calendar 2.0//EN
METHOD:PUBLISH
X-PUBLISHED-TTL:P3D
REFRESH-INTERVAL:P3D
CALSCALE:GREGORIAN
BEGIN:VEVENT
DTSTART:20171201T230000Z
DTEND:20171202T030000Z
X-MICROSOFT-CDO-ALLDAYEVENT:FALSE
SUMMARY:10 Ways To Reach Your Goals In 2018
DESCRIPTION:Goal setting is a skill and goal achievement is a process. Like every skill it has to be developed. The best way to know where you are in the goal setting skill is to know where you are. We will do interactive excercises that will help you to level up and see where you are and how to uplevel to the next stage .I would like to invite you to our seminar where we will share powerful concepts that you can begin to apply right away and set yourself\, your team\, your family on a pathway to success
X-ALT-DESC;FMTTYPE=text/html:Goal setting is a skill and goal achievement is a process. Like every skill it has to be developed. The best way to know where you are in the goal setting skill is to know where you are. We will do interactive excercises that will help you to level up and see where you are and how to uplevel to the next stage .I would like to invite you to our seminar where we will share powerful concepts that you can begin to apply right away and set yourself\, your team\, your family on a pathway to success
LOCATION:The Repertory Theater 1001 E Princeton St\, Orlando\, FL 32803
UID:e.2138.8294
SEQUENCE:3
DTSTAMP:20260424T094341Z
URL:https://business.seminolebusiness.org/events/details/10-ways-to-reach-your-goals-in-2018-8294
END:VEVENT

END:VCALENDAR
