BEGIN:VCALENDAR
VERSION:2.0
PRODID:-//ChamberMaster//Event Calendar 2.0//EN
METHOD:PUBLISH
X-PUBLISHED-TTL:P3D
REFRESH-INTERVAL:P3D
CALSCALE:GREGORIAN
BEGIN:VEVENT
DTSTART:20190824T220000Z
DTEND:20190825T020000Z
X-MICROSOFT-CDO-ALLDAYEVENT:FALSE
SUMMARY:10 Year Celebration Gala
DESCRIPTION:NextStep Orlando is proud to have been helping individuals living with paralysis for 10 years! \n\n\n\n\n\n\nOn Saturday\, August 24\, 2019 we will be hosting a Gala Event to celebrate our 10-year Anniversary at the Heathrow Country Club. This is a night that is not to be missed\; our Guest Speaker will be Alexandra Reeve Givens (Christopher Reeve's Daughter)\, our Event Emcee will be Matt Austin from Channel 6 WKMG Orlando and Co-Emcee is Grace from Sunny 1059.
X-ALT-DESC;FMTTYPE=text/html:<div><span style="font-size:14px"><span style="font-family:arial\,helvetica\,sans-serif"><span style="color:#444444">NextStep Orlando is proud to have been helping individuals living with paralysis for&nbsp\;10</span>&nbsp\;<span style="color:#444444">years!&nbsp\;</span></span></span></div>\n\n<div>\n<div>\n<div>\n<div>\n<div>\n<div><span style="font-size:14px"><span style="font-family:arial\,helvetica\,sans-serif"><span style="color:#444444">On Saturday\, August 24\, 2019 we will be hosting a&nbsp\;Gala</span>&nbsp\;Event to celebrate our&nbsp\;10-year&nbsp\;Anniversary at the Heathrow Country Club. This is a night that is not to be missed\;&nbsp\;<span style="background-color:#ffff00">our Guest Speaker will be Alexandra Reeve Givens (Christopher Reeve&#39\;s Daughter)\, our Event Emcee will be Matt Austin from Channel 6 WKMG Orlando and Co-Emcee is Grace from Sunny 1059.</span></span></span>\n\n<div>&nbsp\;</div>\n</div>\n</div>\n</div>\n</div>\n</div>\n</div>\n
LOCATION:Heathrow Country Club 1200 Bridgewater Drive Heathrow\, FL
UID:e.2138.16235
SEQUENCE:3
DTSTAMP:20260422T034347Z
URL:https://business.seminolebusiness.org/events/details/10-year-celebration-gala-16235
END:VEVENT

END:VCALENDAR
