BEGIN:VCALENDAR
VERSION:2.0
PRODID:-//ChamberMaster//Event Calendar 2.0//EN
METHOD:PUBLISH
X-PUBLISHED-TTL:P3D
REFRESH-INTERVAL:P3D
CALSCALE:GREGORIAN
BEGIN:VEVENT
DTSTART:20190921T100000Z
DTEND:20190921T130000Z
X-MICROSOFT-CDO-ALLDAYEVENT:FALSE
SUMMARY:11th Annual Friends Helping Friends 5K Fun Run/Walk
DESCRIPTION:11th Annual Friends Helping Friends 5K Fun Run/ Walk where 100% of the proceeds goes to benefit women and children of domestic violence at SafeHouse of Seminole. Join us by volunteering\, running\, walking\, or being a sponsor for this incredible community event. This year's event promises to be better than ever\, building on past race successes\, while adding even more family friendly activities and expanding the Health Expo. Our 2 title sponsors\, Massey Cadillac and Morgan & Morgan will be sponsoring again this year. Our sponsors are promoted through broadcast\, podcasts and our 6\,000 plus media friends. \n\n\n\nEarly responses are encouraged who we can start including your company in all media promotions. Join us and make a difference in our local community.
X-ALT-DESC;FMTTYPE=text/html:11th Annual Friends Helping Friends 5K Fun Run/ Walk where 100% of the proceeds goes to benefit women and children of domestic violence at SafeHouse of Seminole. Join us by volunteering\, running\, walking\, or being a sponsor for this incredible community event. This year&#39\;s event promises to be better than ever\, building on past race successes\, while adding even more family friendly activities and expanding the Health Expo. Our 2 title sponsors\, Massey Cadillac and Morgan &amp\; Morgan will be sponsoring again this year. Our sponsors are promoted through broadcast\, podcasts and our 6\,000 plus media friends.&nbsp\;<br />\n<br />\nEarly responses are encouraged who we can start including your company in all media promotions. Join us and make a difference in our local community.&nbsp\;
LOCATION:Walk On Water Boutique 1140 TownPark Avenue\, Suite 1250 Lake Mary\, Florida 32746 407-805-0477
UID:e.2138.16223
SEQUENCE:3
DTSTAMP:20260422T022304Z
URL:https://business.seminolebusiness.org/events/details/11th-annual-friends-helping-friends-5k-fun-run-walk-16223
END:VEVENT

END:VCALENDAR
