BEGIN:VCALENDAR
VERSION:2.0
PRODID:-//ChamberMaster//Event Calendar 2.0//EN
METHOD:PUBLISH
X-PUBLISHED-TTL:P3D
REFRESH-INTERVAL:P3D
CALSCALE:GREGORIAN
BEGIN:VEVENT
DTSTART:20160813T130000Z
DTEND:20160813T170000Z
X-MICROSOFT-CDO-ALLDAYEVENT:FALSE
SUMMARY:1st Annual Family Fitness Festival
DESCRIPTION:What is the Family Fitness Fest?\n\nThe Family Fitness Fest is a FREE indoor community event. Participants will improve strength and agility levels through different fitness activities and have the chance to compete in unique\, fun\, physical challenges. Meet professional athletes\, and visit our press box.\n\nChallengers will have the opportunity to win one of over 25 youth sports scholarships in addition to exciting raffle prizes and giveaways.These scholarships will further the mission of Orlando Orthopedic Center Foundation to help underserved children participate in quality youth sports programs. Event proceeds will benefit local charities.\n\n\n\n \n\n\n\n\n\n\n\nWhat You Can Expect\n\n\n	Challenge Your Physical Limits\n	Learn Injury Prevention Techniques\n	Meet Local And Professional Athletes\n	Enjoy Food from Local Seminole County Vendors\n	Enter to Win Prizes\n\n\n\n\n\n\n\n\n\n\nWho Should Attend\n\n\n	High School Athletes\n	Middle School Athletes\n	Committed Exercise Enthusiast\n	Weekend Warriors\n	The Whole Family
X-ALT-DESC;FMTTYPE=text/html:<p><span style="color:rgb(0\, 0\, 0)\; font-size:xx-large"><strong>What is the Family Fitness Fest?</strong></span></p>\n\n<p><span style="color:rgb(0\, 0\, 0)\; font-size:x-large">The Family Fitness Fest is a FREE indoor community event. Participants will improve strength and agility levels through different fitness activities and have the chance to compete in unique\, fun\, physical challenges. Meet professional athletes\, and visit our press box.</span></p>\n\n<p><span style="color:rgb(0\, 0\, 0)\; font-size:x-large">Challengers will have the opportunity to win one of over 25 youth sports scholarships in addition to exciting raffle prizes and giveaways.These scholarships will further the mission of Orlando Orthopedic Center Foundation to help underserved children participate in quality youth sports programs. Event proceeds will benefit local charities.</span></p>\n\n<div>\n<div>\n<div>&nbsp\;</div>\n</div>\n\n<div>\n<div>\n<div>\n<div>\n<div>\n<p><span style="color:rgb(0\, 0\, 0)\; font-size:xx-large"><strong>What You Can Expect</strong></span></p>\n\n<ul>\n	<li><span style="color:rgb(0\, 0\, 0)\; font-size:x-large">Challenge Your Physical Limits</span></li>\n	<li><span style="color:rgb(0\, 0\, 0)\; font-size:x-large">Learn Injury Prevention Techniques</span></li>\n	<li><span style="color:rgb(0\, 0\, 0)\; font-size:x-large">Meet Local And Professional Athletes</span></li>\n	<li><span style="color:rgb(0\, 0\, 0)\; font-size:x-large">Enjoy Food from Local Seminole County Vendors</span></li>\n	<li><span style="color:rgb(0\, 0\, 0)\; font-size:x-large">Enter to Win Prizes</span></li>\n</ul>\n</div>\n</div>\n</div>\n</div>\n\n<div>\n<div>\n<div>\n<div>\n<p><span style="color:rgb(0\, 0\, 0)\; font-size:xx-large"><strong>Who Should Attend</strong></span></p>\n\n<ul>\n	<li><span style="color:rgb(0\, 0\, 0)\; font-size:x-large">High School Athletes</span></li>\n	<li><span style="color:rgb(0\, 0\, 0)\; font-size:x-large">Middle School Athletes</span></li>\n	<li><span style="color:rgb(0\, 0\, 0)\; font-size:x-large">Committed Exercise Enthusiast</span></li>\n	<li><span style="color:rgb(0\, 0\, 0)\; font-size:x-large">Weekend Warriors</span></li>\n	<li><span style="color:rgb(0\, 0\, 0)\; font-size:x-large">The Whole Family</span></li>\n</ul>\n</div>\n</div>\n</div>\n</div>\n</div>\n</div>\n
LOCATION:Annual Family Fitness Fest D-1 30 Skyline Drive Lake Mary\, FL 32746
UID:e.2138.4610
SEQUENCE:3
DTSTAMP:20260425T194315Z
URL:https://business.seminolebusiness.org/events/details/1st-annual-family-fitness-festival-08-13-2016-4610
END:VEVENT

END:VCALENDAR
