BEGIN:VCALENDAR
VERSION:2.0
PRODID:-//ChamberMaster//Event Calendar 2.0//EN
METHOD:PUBLISH
X-PUBLISHED-TTL:P3D
REFRESH-INTERVAL:P3D
CALSCALE:GREGORIAN
BEGIN:VEVENT
DTSTART:20190906T230000Z
DTEND:20190907T010000Z
X-MICROSOFT-CDO-ALLDAYEVENT:FALSE
SUMMARY:2000s Trivia Night
DESCRIPTION:We have done the 80's and 90's trivia\, so now it's time to go back to the early 2000s! We will be covering 2000-2010 pop culture.
X-ALT-DESC;FMTTYPE=text/html:<span style="color:rgb(29\, 33\, 41)\; font-family:system-ui\,-apple-system\,system-ui\,.sfnstext-regular\,sans-serif\; font-size:14px">We have done the 80&#39\;s and 90&#39\;s trivia\, so now it&#39\;s time to go back to the early 2000s! We will be covering 2000-2010 pop culture. </span>
LOCATION:Boston Coffeehouse Altamonte Springs 851 S SR 434 suite 1190 Altamonte Springs\, FL 32714
UID:e.2138.16386
SEQUENCE:3
DTSTAMP:20260422T021432Z
URL:https://business.seminolebusiness.org/events/details/2000s-trivia-night-16386
END:VEVENT

END:VCALENDAR
