BEGIN:VCALENDAR
VERSION:2.0
PRODID:-//ChamberMaster//Event Calendar 2.0//EN
METHOD:PUBLISH
X-PUBLISHED-TTL:P3D
REFRESH-INTERVAL:P3D
CALSCALE:GREGORIAN
BEGIN:VEVENT
DTSTART:20161019T140000Z
DTEND:20161019T160000Z
X-MICROSOFT-CDO-ALLDAYEVENT:FALSE
SUMMARY:2016 Hope Hike
DESCRIPTION:Walk with staff and friends from the UFHealth Cancer Center Orlando Health in Lake Mary to support breast cancer awareness!!!\n\nDon't forget to wear PINK!!!\n\n\n\nRegistration is required at http://www.ufhealthcancerorlando.com/news-and-events/events/hope-hike-2016
X-ALT-DESC;FMTTYPE=text/html:<div style="text-align: center\;">Walk with staff and friends from the UFHealth Cancer Center Orlando Health in Lake Mary to support breast cancer awareness!!!<br />\n<strong><span style="color:#ff0066\;">Don&#39\;t forget to wear PINK!!!</span></strong><br />\n<br />\nRegistration is required at <a href="http://www.ufhealthcancerorlando.com/news-and-events/events/hope-hike-2016">http://www.ufhealthcancerorlando.com/news-and-events/events/hope-hike-2016</a></div>\n
LOCATION:UFHealth Cancer Center Orlando Health in Lake Mary 210 Rinehart Rd Lake Mary\, FL 32746
UID:e.2138.5717
SEQUENCE:3
DTSTAMP:20260425T164551Z
URL:https://business.seminolebusiness.org/events/details/2016-hope-hike-5717
END:VEVENT

END:VCALENDAR
