BEGIN:VCALENDAR
VERSION:2.0
PRODID:-//ChamberMaster//Event Calendar 2.0//EN
METHOD:PUBLISH
X-PUBLISHED-TTL:P3D
REFRESH-INTERVAL:P3D
CALSCALE:GREGORIAN
BEGIN:VEVENT
DTSTART:20160812T220000Z
DTEND:20160813T010000Z
X-MICROSOFT-CDO-ALLDAYEVENT:FALSE
SUMMARY:2016 Sports\, Travel and Entertainment Auction
DESCRIPTION:Save the Date: Council Travel\, Sports & Entertainment Auction on August 12!\n\n \n\nThis year's Travel\, Sports and Entertainment Auction will be held on Friday\, August 12\, 2016 at the Westin in Lake Mary. Over 400 vacation\, restaurant\, sport memorabilia\, attraction\, and golf packages will be auctioned off and admission is complimentary. Our auction allows us to raise funds for our Scouting families in Central Florida who otherwise would not be able to afford to join\, purchase a book or uniform or pay for the program costs of Scouting.\n\n \n\nVIP packages are available for only $150!  Packages include a VIP reception\, unlimited drinks and food at the auction\, a luxurious overnight stay at the Westin and breakfast the following morning at the award-winning Shula's Grill at the Westin! Make it a date night to remember\, all benefiting an amazing cause: Scouting in the Central Florida Council.\n\n \n\nFor additional information\, please contact Tia Pendleton at 407-703-0245 or via email at  tia.pendleton@cflscouting.org.
X-ALT-DESC;FMTTYPE=text/html:<strong><span style="color:#D80000"><span style="font-family:arial\,sans-serif"><span style="font-size:18.0pt">Save the Date: Council Travel\, Sports &amp\; Entertainment Auction on August 12!</span></span></span></strong><br />\n&nbsp\;<br />\n<strong><span style="color:#1F1F1F"><span style="font-family:arial\,sans-serif"><span style="font-size:11.0pt">This year&#39\;s Travel\, Sports and Entertainment Auction will be held on Friday\,&nbsp\;August 12\, 2016 at the Westin in Lake Mary. Over 400 vacation\, restaurant\, sport memorabilia\, attraction\, and golf packages will be&nbsp\;auctioned off and admission is complimentary.&nbsp\;Our auction allows us to raise funds for our Scouting families in Central Florida who otherwise would not be able to afford to join\, purchase a book or uniform or pay for the program costs of Scouting.</span></span></span></strong><br />\n&nbsp\;<br />\n<strong><span style="color:#1F1F1F"><span style="font-family:arial\,sans-serif"><span style="font-size:11.0pt">VIP packages&nbsp\;are available for only $150!&nbsp\; Packages&nbsp\;include&nbsp\;a VIP reception\, unlimited&nbsp\;drinks and food at the auction\, a luxurious&nbsp\;overnight stay&nbsp\;at the Westin and breakfast the&nbsp\;following&nbsp\;morning at the award-winning Shula&#39\;s Grill at the&nbsp\;Westin!&nbsp\;Make it a date night to remember\, all benefiting an amazing cause:&nbsp\;Scouting in the Central Florida Council.</span></span></span></strong><br />\n&nbsp\;<br />\n<strong><span style="color:#1F1F1F"><span style="font-family:arial\,sans-serif"><span style="font-size:11.0pt">For additional information\, please contact Tia Pendleton at 407-703-0245 or via email at &nbsp\;<a href="mailto:tia.pendleton@cflscouting.org">tia.pendleton@cflscouting.org</a>.&nbsp\;</span></span></span></strong>
LOCATION:The Westin\, Lake Mary2974 International Parkway\, Lake Mary\, Florida
UID:e.2138.4616
SEQUENCE:3
DTSTAMP:20260425T194037Z
URL:https://business.seminolebusiness.org/events/details/2016-sports-travel-and-entertainment-auction-08-12-2016-4616
END:VEVENT

END:VCALENDAR
