BEGIN:VCALENDAR
VERSION:2.0
PRODID:-//ChamberMaster//Event Calendar 2.0//EN
METHOD:PUBLISH
X-PUBLISHED-TTL:P3D
REFRESH-INTERVAL:P3D
CALSCALE:GREGORIAN
BEGIN:VEVENT
DTSTART:20170411T200000Z
DTEND:20170411T220000Z
X-MICROSOFT-CDO-ALLDAYEVENT:FALSE
SUMMARY:2017 Entrepreneurship Competition Presentations
DESCRIPTION:During the 2017 Entrepreneurship Competition Presentations the winning entrants in the Seminole Startup 2017: Entrepreneurship Competition will present their business proposals to members of the business community.\n\nCash prizes will be awarded for first through third place. \n\n\n\nThe Entrepreneurship Competition\, known as Seminole Startup\, gives all enrolled Seminole State students the opportunity to create and develop an original business plan\, with coaching from faculty mentors and the Entrepreneurship Advisory Committee\, to earn cash prizes and support. The goal of the Entrepreneurship Competition is for students to develop skills in business idea generation\, proposal presentation and capital seeking skills.\n\n\n\nSubmissions will be judged by a panel of experienced entrepreneurs and investors in the business community based on criteria such as: product or service\, market opportunity\, marketing strategy\, management team\, pro forma financials and use of capital.
X-ALT-DESC;FMTTYPE=text/html:<p>During the 2017 Entrepreneurship Competition Presentations the winning entrants in the Seminole Startup 2017: Entrepreneurship Competition will present their business proposals to members of the business community.<br>\nCash prizes will be awarded for first through third place.&nbsp\;<br>\n<br>\nThe Entrepreneurship Competition\, known as Seminole Startup\, gives all enrolled Seminole State students the opportunity to create and develop an original business plan\, with coaching from faculty mentors and the Entrepreneurship Advisory Committee\, to earn cash prizes and support. The goal of the Entrepreneurship Competition is for students to develop skills in business idea generation\, proposal presentation and capital seeking skills.<br>\n<br>\nSubmissions will be judged by a panel of experienced entrepreneurs and investors in the business community based on criteria such as: product or service\, market opportunity\, marketing strategy\, management team\, pro forma financials and use of capital.&nbsp\;</p>\n
LOCATION:Seminole State College Heathrow Campus 1055 AAA Drive Heathrow\, FL 32746
UID:e.2138.6464
SEQUENCE:3
DTSTAMP:20260423T192530Z
URL:https://business.seminolebusiness.org/events/details/2017-entrepreneurship-competition-presentations-6464
END:VEVENT

END:VCALENDAR
