BEGIN:VCALENDAR
VERSION:2.0
PRODID:-//ChamberMaster//Event Calendar 2.0//EN
METHOD:PUBLISH
X-PUBLISHED-TTL:P3D
REFRESH-INTERVAL:P3D
CALSCALE:GREGORIAN
BEGIN:VEVENT
DTSTART;VALUE=DATE:20170217
DTEND;VALUE=DATE:20170220
TRANSP:TRANSPARENT
X-MICROSOFT-CDO-ALLDAYEVENT:TRUE
SUMMARY:2017 ISI Spring Classic
DESCRIPTION:RDV Sportsplex Ice Den is hosting the 2017 ISI Spring Classic figure skating competition! Over 300 skaters will compete in this national event that is free for the public to watch and enjoy!
X-ALT-DESC;FMTTYPE=text/html:RDV Sportsplex Ice Den is hosting the 2017 ISI Spring Classic figure skating competition! Over 300 skaters will compete in this national event that is free for the public to watch and enjoy!
LOCATION:RDV Sportsplex Ice Den 8701 Maitland Summit Blvd. Orlando\, FL 32810
UID:e.2138.6453
SEQUENCE:3
DTSTAMP:20260423T160420Z
URL:https://business.seminolebusiness.org/events/details/2017-isi-spring-classic-6453
END:VEVENT

END:VCALENDAR
