BEGIN:VCALENDAR
VERSION:2.0
PRODID:-//ChamberMaster//Event Calendar 2.0//EN
METHOD:PUBLISH
X-PUBLISHED-TTL:P3D
REFRESH-INTERVAL:P3D
CALSCALE:GREGORIAN
BEGIN:VEVENT
DTSTART:20170413T220000Z
DTEND:20170414T010000Z
X-MICROSOFT-CDO-ALLDAYEVENT:FALSE
SUMMARY:2017 James B. Greene Awards Dinner
DESCRIPTION:Jim Greene was a visionary leader to central Florida - a pioneer who shaped our history and defined our future. His special focus on transportation paved the way for our economic progress\; so much so that the Central Florida Greeneway was named after him. We remember Jim for his dedication\, integrity\, community spirit and his will to serve. The James B. Greene Award is given annually to an individual who\, like Jim Greene\, makes extraordinary contributions to our economy.\n\nJoin the Orlando Economic Partnership as we honor William T. Dymond\, Jr.\, CEO & President of Lowndes\, Drosdick\, Doster\, Kantor & Reed\, P.A.\, with the 2017 James B. Greene Award\, and  Steve Hogan\, CEO of Florida Citrus Sports\, with the 2017 Chairman's Award.
X-ALT-DESC;FMTTYPE=text/html:<span style="color:rgb(128\, 127\, 131)\; font-family:helvetica\; font-size:medium"><span style="font-size:11px"><span style="font-family:arial\,helvetica\,sans-serif"><span style="font-size:12px"><span style="color:rgb(248\, 151\, 29)"><strong>Jim Greene</strong></span></span><strong>&nbsp\;</strong><strong>was a</strong><strong>&nbsp\;</strong><span style="color:rgb(248\, 151\, 29)"><strong>visionary leader</strong></span><strong>&nbsp\;</strong><strong>to central Florida - a pioneer who shaped our history and defined our future. His special focus on transportation paved the way for our</strong><strong>&nbsp\;</strong><span style="color:rgb(248\, 151\, 29)"><strong>economic progress</strong></span><strong>\; so much so that the Central Florida Greeneway was named after him. We remember Jim for his</strong><strong>&nbsp\;</strong><span style="color:rgb(248\, 151\, 29)"><strong>dedication\, integrity\, community spirit</strong></span><strong>&nbsp\;</strong><strong>and his</strong><strong>&nbsp\;</strong><span style="color:rgb(248\, 151\, 29)"><strong>will to serve</strong></span><strong>. The James B. Greene Award is given annually to an individual who\, like Jim Greene\, makes</strong><strong>&nbsp\;</strong><span style="color:rgb(248\, 151\, 29)"><strong>extraordinary contributions</strong></span><strong>&nbsp\;</strong></span></span><strong><span style="font-family:arial\,helvetica\,sans-serif"><span style="font-size:11px">to our economy.</span></span></strong></span>\n<hr />\n<div><span style="color:#807f83"><span style="color:rgb(128\, 127\, 131)\; font-family:helvetica\; font-size:medium"><span style="font-family:arial\,helvetica\,sans-serif"><span style="font-size:14px"><span style="font-size:12px">Join the Orlando Economic Partnership as we honor</span></span></span></span></span><span style="color:#f8971d"><span style="color:rgb(128\, 127\, 131)\; font-family:helvetica\; font-size:medium"><span style="font-family:arial\,helvetica\,sans-serif"><span style="font-size:14px"> </span></span></span><span style="font-size:14px"><span style="font-family:helvetica"><strong><span style="font-family:arial\,helvetica\,sans-serif"><span style="font-size:12px">William T. Dymond\, Jr.\, </span></span></strong></span></span></span><span style="font-size:12px"><span style="color:#807f83"><span style="font-family:helvetica"><span style="font-family:arial\,helvetica\,sans-serif">CEO &amp\; President of Lowndes\, Drosdick\, Doster\, Kantor &amp\; Reed\, P.A.\, with the <strong>2017 James B. Greene Award</strong>\, and&nbsp\; </span></span></span><span style="color:#f8971d"><span style="font-family:helvetica"><strong><span style="font-family:arial\,helvetica\,sans-serif">Steve Hogan\, </span></strong></span></span><span style="color:#807f83"><span style="font-family:helvetica"><span style="font-family:arial\,helvetica\,sans-serif">CEO of Florida Citrus Sports\, with the <strong>2017 Chairman&#39\;s Award.</strong></span></span></span></span></div>\n
LOCATION:Hyatt Regency Grand Cypress One Grand Cypress Boulevard Orlando\, FL 32836
UID:e.2138.6676
SEQUENCE:3
DTSTAMP:20260423T192331Z
URL:https://business.seminolebusiness.org/events/details/2017-james-b-greene-awards-dinner-6676
END:VEVENT

END:VCALENDAR
