BEGIN:VCALENDAR
VERSION:2.0
PRODID:-//ChamberMaster//Event Calendar 2.0//EN
METHOD:PUBLISH
X-PUBLISHED-TTL:P3D
REFRESH-INTERVAL:P3D
CALSCALE:GREGORIAN
BEGIN:VEVENT
DTSTART:20170427T120000Z
DTEND:20170427T133000Z
X-MICROSOFT-CDO-ALLDAYEVENT:FALSE
SUMMARY:2017 New Beginnings Breakfast
DESCRIPTION:Join us for our 2017 New Beginnings Breakfast to learn more about the important work being done by IMPOWER and how you can help make a difference!\n\nThis complimentary & powerful\, one-hour event shares inspiring success stories and helps to raise critical funds to support our efforts to change lives\, prevent child abuse and neglect\, strengthen families and assist individuals and families in Central Florida achieve wellness and lead healthy\, independent lives.
X-ALT-DESC;FMTTYPE=text/html:<p style="text-align: center\;"><strong>Join us for our 2017&nbsp\;New Beginnings&nbsp\;Breakfast to learn&nbsp\;more about the important work being done by IMPOWER and how you can help make a difference!</strong></p>\n\n<p style="text-align: center\;">This complimentary &amp\; powerful\, one-hour event shares inspiring success stories and&nbsp\;helps to raise critical funds to support our efforts to&nbsp\;change lives\, prevent child abuse and neglect\, strengthen families and assist individuals and families in Central Florida achieve wellness and lead healthy\, independent lives.</p>\n
LOCATION:The Country Club of Orlando 1601 County Club Drive Orlando\, FL 32804
UID:e.2138.6462
SEQUENCE:3
DTSTAMP:20260423T191714Z
URL:https://business.seminolebusiness.org/events/details/2017-new-beginnings-breakfast-6462
END:VEVENT

END:VCALENDAR
