BEGIN:VCALENDAR
VERSION:2.0
PRODID:-//ChamberMaster//Event Calendar 2.0//EN
METHOD:PUBLISH
X-PUBLISHED-TTL:P3D
REFRESH-INTERVAL:P3D
CALSCALE:GREGORIAN
BEGIN:VEVENT
DTSTART:20170203T000000Z
DTEND:20170203T020000Z
X-MICROSOFT-CDO-ALLDAYEVENT:FALSE
SUMMARY:2017 Reflections in Art
DESCRIPTION:2017 Reflections in Art\n\nDid you know that art has been proven to help treat those struggling with mental health problems and substance abuse?\n\n\n\nBy Supporting Mental Health Through Art\n\nYou will be helping to create an art program for adolescents \n\n\n\nPaint with us at Painting with a Twist!
X-ALT-DESC;FMTTYPE=text/html:<h1 style="text-align: center\;"><span style="color:rgb(255\, 0\, 0)"><span style="font-family:comic sans ms">2017 Reflections in Art</span></span></h1>\n\n<h4 style="text-align: center\;"><span style="font-size:14px"><span style="font-family:comic sans ms">Did you know that art has been proven to help treat those struggling with mental health problems and substance abuse?</span></span><br />\n<br />\n<span style="font-family:comic sans ms"><span style="color:rgb(0\, 0\, 205)"><span style="font-size:16px">By Supporting Mental Health Through Art</span></span></span><br />\n<span style="font-family:comic sans ms"><span style="color:rgb(0\, 0\, 205)"><span style="font-size:14px">You will be helping to&nbsp\;create an art program for adolescents </span></span></span><br />\n<br />\n<span style="color:rgb(0\, 0\, 205)"><span style="font-size:18px">Paint with us at Painting with a Twist!</span></span></h4>\n
LOCATION:Painting with a Twist 851 FL-436 #1013 Altamonte Springs\, FL. 32714
UID:e.2138.6415
SEQUENCE:3
DTSTAMP:20260423T161433Z
URL:https://business.seminolebusiness.org/events/details/2017-reflections-in-art-6415
END:VEVENT

END:VCALENDAR
