BEGIN:VCALENDAR
VERSION:2.0
PRODID:-//ChamberMaster//Event Calendar 2.0//EN
METHOD:PUBLISH
X-PUBLISHED-TTL:P3D
REFRESH-INTERVAL:P3D
CALSCALE:GREGORIAN
BEGIN:VEVENT
DTSTART:20180326T213000Z
DTEND:20180327T000000Z
X-MICROSOFT-CDO-ALLDAYEVENT:FALSE
SUMMARY:2018 Taste of Lake Mary
DESCRIPTION:The Rotary Club of Lake Mary is proud to announce the 13th annual Taste of Lake Mary to be held in the beautiful courtyard between the Marriott Lake Mary and the Park Place at Heathrow. The Event will take place on Monday March 26th \, 2018 from 5:30 p.m. to 8:00 p.m.\n\nTickets are $50 each or Two for $95.\n\nThis Community Fundraising Event is sponsored by the Rotary Club of Lake Mary.\n\nFor Tickets and sponsorships please call 40-995-7013 or email Bskwarlo@aol.com
X-ALT-DESC;FMTTYPE=text/html:<br />\nThe Rotary Club of Lake Mary is proud to announce the 13th annual Taste of Lake Mary to be held in the beautiful courtyard between the Marriott Lake Mary and the Park Place at Heathrow. The Event will take place on Monday March 26th \, 2018 from 5:30 p.m. to 8:00 p.m.<br />\nTickets are $50 each or Two for $95.<br />\nThis Community Fundraising Event is sponsored by the Rotary Club of Lake Mary.<br />\nFor Tickets and sponsorships please call 40-995-7013 or email Bskwarlo@aol.com
LOCATION:Marriott Lake Mary 1501 International Parkway Lake Mary Florida 32746
UID:e.2138.4622
SEQUENCE:3
DTSTAMP:20260424T131913Z
URL:https://business.seminolebusiness.org/events/details/2017-taste-of-lake-mary-03-27-2017-4622
END:VEVENT

END:VCALENDAR
