BEGIN:VCALENDAR
VERSION:2.0
PRODID:-//ChamberMaster//Event Calendar 2.0//EN
METHOD:PUBLISH
X-PUBLISHED-TTL:P3D
REFRESH-INTERVAL:P3D
CALSCALE:GREGORIAN
BEGIN:VEVENT
DTSTART:20180424T160000Z
DTEND:20180424T170000Z
X-MICROSOFT-CDO-ALLDAYEVENT:FALSE
SUMMARY:2018 Case Updates on Government Claims\, Turnover Orders and Contempt
DESCRIPTION:Attorneys Gary A. Forster and Eric C. Boughman present their 2018 Asset Protection case updates.  In this seminar\, they explain how the integrity of protective structures often hinges on who is trying to reach your assets. Special considerations necessary for a motivated creditor with unlimited resources (like the U.S. Government)\, as government agencies have unique resources at their disposal.  They also review some of the issues this presents during this seminar.
X-ALT-DESC;FMTTYPE=text/html:<span style="font-family: lato-regular\,helveticaneuew01-55roma\,helvetica neue\,helvetica\,arial\,sans-serif\; font-size: 14px\;">Attorneys Gary A. Forster and Eric C. Boughman present their 2018 Asset Protection case updates.&nbsp\; In this seminar\, they explain how the integrity of protective structures often hinges on who is trying to reach your assets. Special considerations necessary for a motivated creditor with unlimited resources (like the U.S. Government)\, as government agencies have unique resources at their disposal.&nbsp\; They also review some of the issues this presents during this seminar.</span>
LOCATION:Webinar - Registration Link: https://register.gotowebinar.com/register/6424593065976459777
UID:e.2138.8829
SEQUENCE:3
DTSTAMP:20260424T120235Z
URL:https://business.seminolebusiness.org/events/details/2018-case-updates-on-government-claims-turnover-orders-and-contempt-8829
END:VEVENT

END:VCALENDAR
