BEGIN:VCALENDAR
VERSION:2.0
PRODID:-//ChamberMaster//Event Calendar 2.0//EN
METHOD:PUBLISH
X-PUBLISHED-TTL:P3D
REFRESH-INTERVAL:P3D
CALSCALE:GREGORIAN
BEGIN:VEVENT
DTSTART:20190111T160000Z
DTEND:20190111T183000Z
X-MICROSOFT-CDO-ALLDAYEVENT:FALSE
SUMMARY:2019 Business of Sports
DESCRIPTION:Whether it's amateur\, professional\, collegiate or otherwise\, sports events and competitions fill up hotel rooms\, restaurants\, stadiums and gymnasiums throughout our region. Learn what's on the horizon from a panel of sports industry leaders.\n\nJoin Central Florida business leaders for our 2019 Business of Sports panel discussion luncheon event.\n\nOur panel of distinguished sports industry experts will discuss the regional projects and initiatives making headlines in 2019.  Network with like-minded professionals and discover new opportunities that may benefit your company or organization in the new year.\n\n\n\n \n\nIndividual Event Ticket: $65\n\nStandard Reserved Block: $725\n\nAttire: Business Professional\n\nParking: Complimentary self-parking - Lot 10\n\nRegistration Deadline: Friday\, January 4th
X-ALT-DESC;FMTTYPE=text/html:<h2><span style="font-size: 14px\;"><span style="font-family: arial\;">Whether it&#39\;s amateur\, professional\, collegiate or otherwise\, sports events and competitions fill up hotel rooms\, restaurants\, stadiums and gymnasiums throughout our region. Learn what&#39\;s on the horizon from a panel of sports industry leaders.</span></span></h2>\n\n<p><span style="font-size: 14px\;"><span style="font-family: arial\;">Join Central Florida business leaders for our 2019 Business of Sports panel discussion luncheon event.</span></span></p>\n\n<p><span style="font-size: 14px\;"><span style="font-family: arial\;">Our panel of distinguished sports industry experts will discuss the regional projects and initiatives making headlines in 2019.&nbsp\; Network with like-minded professionals and discover new opportunities that may benefit your company or organization in the new year.</span></span><br />\n<br />\n&nbsp\;</p>\n\n<p><span style="font-size: 14px\;"><span style="font-family: arial\;"><strong>Individual Event Ticket</strong>: $65</span></span></p>\n\n<p><span style="font-size: 14px\;"><span style="font-family: arial\;"><strong>Standard Reserved Block</strong>: $725</span></span></p>\n\n<p><span style="font-size: 14px\;"><span style="font-family: arial\;"><strong>Attire</strong>: Business Professional</span></span></p>\n\n<p><span style="font-size: 14px\;"><span style="font-family: arial\;"><strong>Parking</strong>: Complimentary self-parking - Lot 10</span></span></p>\n\n<p><span style="font-size: 14px\;"><span style="font-family: arial\;"><strong>Registration Deadline</strong>: Friday\, January 4th</span></span></p>\n
LOCATION:Varsity Club at Camping World Stadium 1 Citrus Bowl Pl Orlando\, Fl 32805
UID:e.2138.14829
SEQUENCE:3
DTSTAMP:20260423T214643Z
URL:https://business.seminolebusiness.org/events/details/2019-business-of-sports-14829
END:VEVENT

END:VCALENDAR
