BEGIN:VCALENDAR
VERSION:2.0
PRODID:-//ChamberMaster//Event Calendar 2.0//EN
METHOD:PUBLISH
X-PUBLISHED-TTL:P3D
REFRESH-INTERVAL:P3D
CALSCALE:GREGORIAN
BEGIN:VEVENT
DTSTART:20190209T233000Z
DTEND:20190210T023000Z
X-MICROSOFT-CDO-ALLDAYEVENT:FALSE
SUMMARY:2019 heART for the Arts Gala
DESCRIPTION:The event celebrates the arts by showcasing the visual\, performing\, and culinary arts. We partner with various businesses and artists from Seminole County including local restaurants\, Seminole State College\, local visual artists\, and local performing artists.
X-ALT-DESC;FMTTYPE=text/html:<p>The event celebrates the arts by showcasing the visual\, performing\, and culinary arts. We partner with various businesses and artists from Seminole County including local restaurants\, Seminole State College\, local visual artists\, and local performing artists.</p>\n
LOCATION:Mercedes Benz of North Orlando 1100 Rinehart Road\, Sanford\, FL 32771
UID:e.2138.14812
SEQUENCE:3
DTSTAMP:20260422T130101Z
URL:https://business.seminolebusiness.org/events/details/2019-heart-for-the-arts-gala-14812
END:VEVENT

END:VCALENDAR
