BEGIN:VCALENDAR
VERSION:2.0
PRODID:-//ChamberMaster//Event Calendar 2.0//EN
METHOD:PUBLISH
X-PUBLISHED-TTL:P3D
REFRESH-INTERVAL:P3D
CALSCALE:GREGORIAN
BEGIN:VEVENT
DTSTART;VALUE=DATE:20160411
DTEND;VALUE=DATE:20160412
TRANSP:TRANSPARENT
X-MICROSOFT-CDO-ALLDAYEVENT:TRUE
SUMMARY:22nd Annual Golf ?FORE? Education Tournament presented by IOA
DESCRIPTION:Join us for the 22nd Annual Golf "FORE" Education Tournament\, presented by IOA\, on Monday\, April 11\, 2016 at The Legacy Club at Alaqua Lakes. The format is Two-Flight Shotgun with 8 AM and 1:30 PM start times.\n\nAll funds raised through the Tournament support The Foundation's many programs. These include Backpacks for Success and A Gift for Teaching-Seminole which provides new backpacks and school supplies to students in need\; Take Stock in Children\, a student scholarship program that provides support and mentoring\; Grants for Great Ideas provides grants to teachers for creative and innovative programs\; as well as student scholarships.\n\nIf you can't swing a foursome\, please consider a donation of a prize to our drawings and auction\, or a cash contribution.  Dining and retail gift cards\, wine and liquor\, golf equipment and clothing are all welcome. Download the 2016 Golf-Donation-Form and fax to 407-320-0285 or email us at charneisha_pates@scps.k12.fl.us. Please register below or contact us atCharneisha_Pates@scps.k12.fl.us for more information.
X-ALT-DESC;FMTTYPE=text/html:<p>Join us for the&nbsp\;<strong>22nd Annual Golf &ldquo\;FORE&rdquo\; Education Tournament\, presented by IOA\,</strong>&nbsp\;on&nbsp\;<strong>Monday\, April 11\, 2016 at The Legacy Club at Alaqua Lakes</strong><em>. The format is Two-Flight Shotgun with 8 AM and 1:30 PM start times.</em></p>\n\n<p>All funds raised through the Tournament support The Foundation&rsquo\;s many programs. These include Backpacks for Success and A Gift for Teaching-Seminole which provides new backpacks and school supplies to students in need\; Take Stock in Children\, a student scholarship program that provides support and mentoring\; Grants for Great Ideas provides grants to teachers for creative and innovative programs\; as well as student scholarships.</p>\n\n<p>If you can&rsquo\;t swing a foursome\, please consider a donation of a prize to our drawings and auction\, or a cash contribution.&nbsp\; Dining and retail gift cards\, wine and liquor\,&nbsp\;golf equipment and clothing are all welcome.&nbsp\;Download the&nbsp\;<a href="http://www.foundationscps.org/wp-content/uploads/2014/12/2016-Golf-Donation-Form.pdf" rel="" style="border: 0px\; font-family: inherit\; font-style: inherit\; font-weight: inherit\; margin: 0px\; outline: 0px\; padding: 0px\; vertical-align: baseline\; color: rgb(229\, 27\, 36)\;">2016 Golf-Donation-Form</a>&nbsp\;and&nbsp\;fax to&nbsp\;407-320-0285&nbsp\;or email us at charneisha_pates@scps.k12.fl.us.&nbsp\;Please register below or contact us at<a href="http://Charneisha_Pates@scps.k12.fl.us/" style="border: 0px\; font-family: inherit\; font-style: inherit\; font-weight: inherit\; margin: 0px\; outline: 0px\; padding: 0px\; vertical-align: baseline\; color: rgb(229\, 27\, 36)\;" target="_blank">Charneisha</a><a href="http://Charneisha_Pates@scps.k12.fl.us/" style="border: 0px\; font-family: inherit\; font-style: inherit\; font-weight: inherit\; margin: 0px\; outline: 0px\; padding: 0px\; vertical-align: baseline\; color: rgb(229\, 27\, 36)\;" target="_blank">_Pates@scps.k12.fl.us</a>&nbsp\;for more information.</p>\n
LOCATION:The Legacy Club at Alaqua Lakes 1700 Alaqua Lakes Blvd. Longwood\, FL
UID:e.2138.4341
SEQUENCE:3
DTSTAMP:20260426T013837Z
URL:https://business.seminolebusiness.org/events/details/22nd-annual-golf-fore-education-tournament-presented-by-ioa-04-11-2016-4341
END:VEVENT

END:VCALENDAR
