BEGIN:VCALENDAR
VERSION:2.0
PRODID:-//ChamberMaster//Event Calendar 2.0//EN
METHOD:PUBLISH
X-PUBLISHED-TTL:P3D
REFRESH-INTERVAL:P3D
CALSCALE:GREGORIAN
BEGIN:VEVENT
DTSTART:20180317T130000Z
DTEND:20180317T170000Z
X-MICROSOFT-CDO-ALLDAYEVENT:FALSE
SUMMARY:24 Hour Fitness Lake Mary Grand Opening
DESCRIPTION:Residents of Lake Mary\, Florida will soon have a new place to stay in shape\, achieve personalized health solutions\, and meet their fitness goals with the opening of a brand new 24 Hour Fitness club in the heart of Lake Mary\, Florida. The fitness leader prides itself on creating friendly and supportive communities\, and the new Lake Mary club is no exception. Featuring a talented team of fitness professionals\, exciting group exercise classes\, world-class facilities\, and a family-friendly environment\, the new club will offer Lake Mary residents with a welcoming place to exercise regardless of skill level\, age\, or prior experience. \n\n\n\nThe club's grand opening event is scheduled for Saturday\, March 17\, 2018\, 9:00 a.m. until 1:00 p.m.\,\n\n24 Hour Fitness  Lake Mary Griffin Park\, located at 236 Wheelhouse Lane\, Lake Mary\, FL 32746. The community is invited to this free celebration\, which includes club tours\, prize drawings\, group training demonstrations\, innovative GX24  studio classes and more.
X-ALT-DESC;FMTTYPE=text/html:<span style="font-family: arial\,sans-serif\;"><span style="font-size: 11pt\;">Residents of Lake Mary\, Florida will soon have a new place to stay in shape\, achieve personalized health solutions\, and meet their fitness goals with the opening of a brand new 24 Hour Fitness club in the heart of Lake Mary\, Florida. The fitness leader prides itself on creating friendly and supportive communities\, and the new Lake Mary club is no exception. Featuring a talented team of fitness professionals\, exciting group exercise classes\, world-class facilities\, and a family-friendly environment\, the new club will offer Lake Mary residents with a welcoming place to exercise regardless of skill level\, age\, or prior experience. </span></span><br />\n<br />\n<span style="color: black\;"><span style="font-family: arial\,sans-serif\;"><span style="font-size: 11pt\;">The club&rsquo\;s grand opening event is scheduled for&nbsp\;<strong>Saturday\, March 17\, 2018\, 9:00 a.m. until 1:00 p.m.\,</strong></span></span></span><br />\n<span style="color: black\;"><span style="font-family: arial\,sans-serif\;"><span style="font-size: 11pt\;">24 Hour Fitness<sup>&reg\;&nbsp\;</sup><strong>Lake Mary Griffin Park\,</strong> located at&nbsp\;</span></span></span><strong><span style="font-family: arial\,sans-serif\;"><span style="font-size: 11pt\;">236 Wheelhouse Lane\, Lake Mary\, FL 32746<span style="color: black\;">.&nbsp\;</span></span></span></strong><span style="color: black\;"><span style="font-family: arial\,sans-serif\;"><span style="font-size: 11pt\;">The community is invited to this free celebration\, which includes club tours\, prize drawings\, group training demonstrations\, innovative GX24<sup>&reg\;</sup>&nbsp\;studio classes and more.&nbsp\;</span></span></span>
LOCATION:236 Wheelhouse Lane\, Lake Mary\, FL 32746
UID:e.2138.8808
SEQUENCE:3
DTSTAMP:20260424T130742Z
URL:https://business.seminolebusiness.org/events/details/24-hour-fitness-lake-mary-grand-opening-8808
END:VEVENT

END:VCALENDAR
