BEGIN:VCALENDAR
VERSION:2.0
PRODID:-//ChamberMaster//Event Calendar 2.0//EN
METHOD:PUBLISH
X-PUBLISHED-TTL:P3D
REFRESH-INTERVAL:P3D
CALSCALE:GREGORIAN
BEGIN:VEVENT
DTSTART:20180315T200000Z
DTEND:20180315T230000Z
X-MICROSOFT-CDO-ALLDAYEVENT:FALSE
SUMMARY:24 Hour Fitness Sneak Peek Party
DESCRIPTION:At 24 Hour Fitness\, our focus is on one thing: you. That's why we're bringing Lake Mary a new 37\,000 square foot club with everything you can imagine to get the best version of yourself. Join us for a Sneak Peek of Lake Mary Super Sport. Explore our brand-new club and learn more about our Corporate Wellness Program. Find out all the ways you can do more with your 24.
X-ALT-DESC;FMTTYPE=text/html:At 24 Hour Fitness\, our focus is on one thing: you. That&#39\;s why we&#39\;re bringing Lake Mary a new 37\,000 square foot club with everything you can imagine to get the best version of yourself. Join us for a Sneak Peek of Lake Mary Super Sport. Explore our brand-new club and learn more about our Corporate Wellness Program. Find out all the ways you can do more with your 24.
LOCATION:236 Wheelhouse Lane\, Lake Mary
UID:e.2138.8806
SEQUENCE:3
DTSTAMP:20260424T130703Z
URL:https://business.seminolebusiness.org/events/details/24-hour-fitness-sneak-peek-party-8806
END:VEVENT

END:VCALENDAR
