BEGIN:VCALENDAR
VERSION:2.0
PRODID:-//ChamberMaster//Event Calendar 2.0//EN
METHOD:PUBLISH
X-PUBLISHED-TTL:P3D
REFRESH-INTERVAL:P3D
CALSCALE:GREGORIAN
BEGIN:VEVENT
DTSTART:20180613T180000Z
DTEND:20180613T210000Z
X-MICROSOFT-CDO-ALLDAYEVENT:FALSE
SUMMARY:25th Anniversay Party
DESCRIPTION:Please join Security National Mortgage as we celebrate our 25th year in the mortgage industry.
X-ALT-DESC;FMTTYPE=text/html:Please join Security National Mortgage as we celebrate our 25th year in the mortgage industry.
LOCATION:1145 TownPark Avenue Suite 2215 Lake Mary Florida 32746
UID:e.2138.9446
SEQUENCE:3
DTSTAMP:20260424T083328Z
URL:https://business.seminolebusiness.org/events/details/25th-anniversay-party-9446
END:VEVENT

END:VCALENDAR
