BEGIN:VCALENDAR
VERSION:2.0
PRODID:-//ChamberMaster//Event Calendar 2.0//EN
METHOD:PUBLISH
X-PUBLISHED-TTL:P3D
REFRESH-INTERVAL:P3D
CALSCALE:GREGORIAN
BEGIN:VEVENT
DTSTART:20161027T223000Z
DTEND:20161028T000000Z
X-MICROSOFT-CDO-ALLDAYEVENT:FALSE
SUMMARY:3 Effective Ways to help the Sleep Deprived sleep better and lose weight
DESCRIPTION:Do you have difficulty sleeping? Insomnia may cause more than just fatigue. Dr. J wants to help you start sleeping better. Learn ways to address this very common complaint.
X-ALT-DESC;FMTTYPE=text/html:Do you have difficulty sleeping? Insomnia may cause more than just fatigue. Dr. J wants to help you start sleeping better. Learn ways to address this very common complaint.&nbsp\;
LOCATION:660 Florida Central Pkwy Longwood\, FL 32750
UID:e.2138.4860
SEQUENCE:3
DTSTAMP:20260425T165034Z
URL:https://business.seminolebusiness.org/events/details/3-effective-ways-to-help-the-sleep-deprived-sleep-better-and-lose-weight-10-27-2016-4860
END:VEVENT

END:VCALENDAR
