BEGIN:VCALENDAR
VERSION:2.0
PRODID:-//ChamberMaster//Event Calendar 2.0//EN
METHOD:PUBLISH
X-PUBLISHED-TTL:P3D
REFRESH-INTERVAL:P3D
CALSCALE:GREGORIAN
BEGIN:VEVENT
DTSTART:20161114T233000Z
DTEND:20161115T010000Z
X-MICROSOFT-CDO-ALLDAYEVENT:FALSE
SUMMARY:3 Mistakes diabetics make that destroy their efforts to lose weight and control their numbers
DESCRIPTION:We are proud to offer a class to help diabetics and pre-diabetics lose weight and control their numbers.
X-ALT-DESC;FMTTYPE=text/html:We are proud to offer a class to help diabetics and pre-diabetics lose weight and control their numbers.&nbsp\;
LOCATION:660 Florida Central Pkwy Longwood\, FL 32750
UID:e.2138.4863
SEQUENCE:3
DTSTAMP:20260425T150907Z
URL:https://business.seminolebusiness.org/events/details/3-mistakes-diabetics-make-that-destroy-their-efforts-to-lose-weight-and-control-their-numbers-11-14-2016-4863
END:VEVENT

END:VCALENDAR
