BEGIN:VCALENDAR
VERSION:2.0
PRODID:-//ChamberMaster//Event Calendar 2.0//EN
METHOD:PUBLISH
X-PUBLISHED-TTL:P3D
REFRESH-INTERVAL:P3D
CALSCALE:GREGORIAN
BEGIN:VEVENT
DTSTART:20180303T140000Z
DTEND:20180303T220000Z
X-MICROSOFT-CDO-ALLDAYEVENT:FALSE
SUMMARY:31st Annual Lake Mary Heathrow Festival of the Arts
DESCRIPTION:The Lake Mary Heathrow Festival of the Arts returns March 3rd & 4th\, 2018. Visitors from Florida\, the U.S. and around the globe come to our festival to view fine art and craft exhibits\, enjoy live entertainment\, as well as savor appetizing treats from local food trucks purveyors.\n\nOur mission is to produce an outstanding juried show for the Lake Mary Heathrow Festival of the Arts\, featuring national and international artists and contemporary craftsman\, while raising scholarship money for graduating Seminole County High School Students. In doing so\, we hope to stimulate\, energize and foster pride within the local economy\, encourage involvement within Seminole County\, entertain our guests and celebrate the arts!\n\nThe festivities will include a children's art\, fine arts and crafts\, live music and entertainment\, food trucks\, and a VIP tent.\n\n\n\nPlease contact Jessica Hodgins for Sponsorship Opportunities at jhodgins@lakemaryfl.com or 407.585.1421.
X-ALT-DESC;FMTTYPE=text/html:<p>The Lake Mary Heathrow Festival of the Arts returns March 3rd &amp\; 4th\, 2018. Visitors from Florida\, the U.S. and around the globe come to our festival to view fine art and craft exhibits\, enjoy live entertainment\, as well as savor appetizing treats from local food trucks purveyors.</p>\n\n<p>Our mission is to produce an outstanding juried show for the Lake Mary Heathrow Festival of the Arts\, featuring national and international artists and contemporary craftsman\, while raising scholarship money for graduating Seminole County High School Students. In doing so\, we hope to stimulate\, energize and foster pride within the local economy\, encourage involvement within Seminole County\, entertain our guests and celebrate the arts!</p>\n\n<p>The&nbsp\;festivities will include a children&rsquo\;s art\, fine arts and crafts\,&nbsp\;live music and entertainment\, food trucks\, and a VIP tent.<br />\n<br />\n<span style="text-align:center">Please contact </span><strong style="text-align:center">Jessica Hodgins</strong><span style="text-align:center"> for Sponsorship Opportunities at </span><strong style="text-align:center">jhodgins@lakemaryfl.com</strong><span style="text-align:center"> or </span><strong style="text-align:center">407.585.1421</strong><span style="text-align:center">.</span></p>\n
LOCATION:Oval Park Lake Mary 900 International Parkway Lake Mary\, FL 32746
UID:e.2138.8648
SEQUENCE:3
DTSTAMP:20260424T132350Z
URL:https://business.seminolebusiness.org/events/details/31st-annual-lake-mary-heathrow-festival-of-the-arts-8648
END:VEVENT

END:VCALENDAR
