BEGIN:VCALENDAR
VERSION:2.0
PRODID:-//ChamberMaster//Event Calendar 2.0//EN
METHOD:PUBLISH
X-PUBLISHED-TTL:P3D
REFRESH-INTERVAL:P3D
CALSCALE:GREGORIAN
BEGIN:VEVENT
DTSTART:20190513T113000Z
DTEND:20190513T190000Z
X-MICROSOFT-CDO-ALLDAYEVENT:FALSE
SUMMARY:4th Annual Inspire Golf Classic
DESCRIPTION:We will be hosting our 4th annual Inspire Golf Classic on May 13\, 2019\, at Heathrow Country Club.  The fees will include breakfast\, buffet luncheon\, both a silent and live auction and awards ceremony.  Registration begins at 7:30am and shotgun start 9:00am.  On course food sponsors: Chef City Catering\, McDonalds\, Mission BBQ\, Uncle Buck's BBQ\, Lagunitas and Wayne Densch\, Inc.\n\n\n\nWe are actively seeking event sponsors.  The sponsor's information will be included in the power point displayed during the awards ceremony and signage on the holes.  Varying amounts of foursomes are included with the purchase of a sponsorship\, depending upon the level. Additionally\, we would greatly appreciate any donations you may be able to provide for the silent or live auction during the event.  \n\n\n\nA little about Inspire....Inspire of Central Florida is a 35 year old 501c3 located in Seminole County which provides vocational training services to individuals with varying developmental disabilities. We have the unique distinction of being the only program of its kind in Seminole County\, providing vocational training that is not tied to a residential service requirement. Our mission is to provide a work environment that is safe\, compassionate\, and educational for adults with developmental disabilities. We strive to help our clients to be independent and productive in their learning and work efforts. Inspire is committed to providing the highest and best known practices in our industry.  \n\n\n\nPlease help us to make a difference that truly counts on a local level! If you would like additional information on this event or our programs\, please visit our website at www.inspireofcentralflorida.org or contact us directly at (407) 699-4419\, ask for Lisa Garbers.\n\n\n\nThank you for your continued support.
X-ALT-DESC;FMTTYPE=text/html:<span style="font-family: comic sans ms\;">We will be hosting our 4th annual Inspire Golf Classic on May 13\, 2019\, at Heathrow Country Club.&nbsp\; The fees will include breakfast\, buffet luncheon\, both a silent and live auction and awards ceremony.&nbsp\; Registration begins at 7:30am and shotgun start 9:00am.&nbsp\; On course food sponsors: Chef City Catering\, McDonalds\, Mission BBQ\, Uncle Buck&#39\;s BBQ\, Lagunitas and Wayne Densch\, Inc.</span><br />\n<br />\n<span style="font-family: comic sans ms\;">We are actively seeking event sponsors.&nbsp\; The sponsor&rsquo\;s information will be included in the power point displayed during the awards ceremony and signage on the holes.&nbsp\; Varying amounts of foursomes are included with the purchase of a sponsorship\, depending upon the level. Additionally\, we would greatly appreciate any donations you may be able to provide for the silent or live auction during the event.&nbsp\; </span><br />\n<br />\n<span style="font-family: comic sans ms\;">A little about Inspire....Inspire of Central Florida is a 35 year old 501c3 located in Seminole County which provides vocational training services to individuals with varying developmental disabilities. We have the unique distinction of being the only program of its kind in Seminole County\, providing vocational training that is not tied to a residential service requirement. Our mission is to provide a work environment that is safe\, compassionate\, and educational for adults with developmental disabilities. We strive to help our clients to be independent and productive in their learning and work efforts. Inspire is committed to providing the highest and best known practices in our industry.&nbsp\; </span><br />\n<br />\n<span style="font-family: comic sans ms\;">Please help us to make a difference that truly counts on a local level! If you would like additional information on this event or our programs\, please visit our website at </span><a href="http://www.inspireofcentralflorida.org" target="_blank"><span style="font-family: comic sans ms\;">www.inspireofcentralflorida.org</span></a><span style="font-family: comic sans ms\;"> or contact us directly at </span><a href="tel:(407)%20699-4419" target="_blank"><span style="font-family: comic sans ms\;">(407) 699-4419</span></a><span style="font-family: comic sans ms\;">\, ask for Lisa Garbers.</span><br />\n<br />\n<span style="font-family: comic sans ms\;">Thank you for your continued support.</span><br />\n&nbsp\;
LOCATION:Heathrow Country Club 1200 Bridgewater Dr.\, Heathrow\, Fl. 32746
UID:e.2138.8814
SEQUENCE:3
DTSTAMP:20260422T081016Z
URL:https://business.seminolebusiness.org/events/details/3rd-annual-inspire-golf-classic-8814
END:VEVENT

END:VCALENDAR
