BEGIN:VCALENDAR
VERSION:2.0
PRODID:-//ChamberMaster//Event Calendar 2.0//EN
METHOD:PUBLISH
X-PUBLISHED-TTL:P3D
REFRESH-INTERVAL:P3D
CALSCALE:GREGORIAN
BEGIN:VEVENT
DTSTART:20170401T200000Z
DTEND:20170401T233000Z
X-MICROSOFT-CDO-ALLDAYEVENT:FALSE
SUMMARY:4.01K Run - Race to Financial Fitness!
DESCRIPTION:Our annual 4.01K Race for Financial Fitness is a fun way to raise money to support Junior Achievement (JACF) programs in Central Florida and create awareness about the importance of enhancing the potential of our future workforce. Because of the generous support of Smarter Tomorrow Foundation\, all proceeds from sponsorships and registrations stay in Central Florida for Central Florida students. This family-friendly event is open to your employees and their families!\n\nThe JACF 4.01K Race for Financial Fitness provides an excellent opportunity for organizations of all sizes to give back to the community while providing employees with a fun teambuilding experience. Sponsorship packages include runner registration and other associated benefits.\n\n-
X-ALT-DESC;FMTTYPE=text/html:<p>Our annual 4.01K Race for Financial Fitness is a fun way to raise money to support Junior Achievement (JACF) programs in Central Florida and create awareness about the importance of enhancing the potential of our future workforce. Because of the generous support of Smarter Tomorrow Foundation\, all proceeds from sponsorships and registrations stay in Central Florida for Central Florida students. This family-friendly event is open to your employees and their families!</p>\n\n<p>The JACF 4.01K Race for Financial Fitness provides an excellent opportunity for organizations of all sizes to give back to the community while providing employees with a fun teambuilding experience. Sponsorship packages include runner registration and other associated benefits.</p>\n\n<p><span style="font-family:arial\,helvetica neue\,helvetica\,sans-serif\; font-size:14px">-</span></p>\n
LOCATION:On April 1\, the race for good financial health is back and better than ever! Grab your water bottle\, ready your racing shoes and join us in Orlando for the 3rd annual 4.01K Race for Financial Fitness benefiting the Junior Achievement of Central Florida! Keep an ear to the ground for more details. We will be at Harbor Park in Baldwin Park at 4:01PM!
UID:e.2138.6688
SEQUENCE:3
DTSTAMP:20260423T194125Z
URL:https://business.seminolebusiness.org/events/details/4-01k-run-race-to-financial-fitness-6688
END:VEVENT

END:VCALENDAR
