BEGIN:VCALENDAR
VERSION:2.0
PRODID:-//ChamberMaster//Event Calendar 2.0//EN
METHOD:PUBLISH
X-PUBLISHED-TTL:P3D
REFRESH-INTERVAL:P3D
CALSCALE:GREGORIAN
BEGIN:VEVENT
DTSTART:20160414T223000Z
DTEND:20160415T013000Z
X-MICROSOFT-CDO-ALLDAYEVENT:FALSE
SUMMARY:40 Years of Celebrating Independence
DESCRIPTION:For 40 years\, the Center for Independent Living has remained dedicated to its mission of creating opportunity for disability inclusion for youth\, adults and families. On April 14\, 2016\, we will celebrate many milestones and reflect on our progress by honoring founding member\, Mr. Dick Batchelor with a special tribute to the late Mrs. Beverly Chapman performed by members of Central Florida Community Arts.  \n\nWe will recognize Mr. Dick Batchelor with the first ever Beverly Chapman Legacy Award for his tremendous commitment to disability inclusion throughout Central Florida and beyond. \n\nGuests will enjoy dinner catered by Pearsons\, a 40th anniversary signature cocktail\, open bar\, and a stellar silent auction! \n\nThis evening will empower you to continue the progressive work of making Central Florida the most inclusive community in the country. Together\, we will celebrate 40 years of success and look forward to 40 more years of strengthening Central Florida for all. \n\nSave your seat by registering individually\, as a pair\, or purchasing a table today!
X-ALT-DESC;FMTTYPE=text/html:<p>For 40 years\, the Center for Independent Living has remained dedicated to its mission of creating opportunity for disability inclusion for youth\, adults and families. On April 14\, 2016\, we will celebrate many milestones and reflect on our progress by honoring founding member\, Mr. Dick Batchelor with a special tribute to the late Mrs. Beverly Chapman&nbsp\;performed by members of Central Florida Community Arts. &nbsp\;</p>\n\n<p>We will recognize Mr. Dick Batchelor with the first ever Beverly Chapman Legacy Award for his tremendous commitment to disability inclusion throughout Central Florida and beyond.&nbsp\;</p>\n\n<p>Guests will enjoy dinner catered by Pearsons\, a 40th anniversary signature cocktail\, open bar\, and a stellar silent auction!&nbsp\;</p>\n\n<p>This evening will empower you to continue the progressive work of making Central Florida the most inclusive community in the country. Together\, we will celebrate 40 years of success and look forward to 40 more years of strengthening Central Florida for all.&nbsp\;</p>\n\n<p>Save your seat by registering individually\, as a pair\, or purchasing a table today!&nbsp\;</p>\n
LOCATION:Rachel D. Murrah Civic Center
UID:e.2138.4365
SEQUENCE:3
DTSTAMP:20260426T013843Z
URL:https://business.seminolebusiness.org/events/details/40-years-of-celebrating-independence-04-14-2016-4365
END:VEVENT

END:VCALENDAR
