BEGIN:VCALENDAR
VERSION:2.0
PRODID:-//ChamberMaster//Event Calendar 2.0//EN
METHOD:PUBLISH
X-PUBLISHED-TTL:P3D
REFRESH-INTERVAL:P3D
CALSCALE:GREGORIAN
BEGIN:VEVENT
DTSTART:20170314T220000Z
DTEND:20170315T000000Z
X-MICROSOFT-CDO-ALLDAYEVENT:FALSE
SUMMARY:5 Ways to Massive Profits
DESCRIPTION:ATTENTION:SUCCESS-ORIENTED BUSINESS OWNERS\n\n \n\nWhat is keeping your business from peak performance?\n\n \n\nJoin us for:\n\n \n\n5 Ways to Massive Profits \n\nYou will develop the confidence to take immediate action when you learn the answers to your questions at our free seminar\n\n What You'll Learn at '5 Ways to Massive Profits':\n\n \n\n What are the "5 Ways" to Massive Profits?\n\n How can I easily grow my profits by more than 61%?\n\n What tools can I use to measure how well I am doing?\n\n How could my beliefs about marketing be hurting me?\n\n Which of the 350+ strategies available for improving my profit will work for me?\n\n\n\nIn just a few hours you will get more ideas on how you can increase your income than you have in the last few months\, maybe even the last few years!\n\n \n\nI am going to give you the secrets to unlocking the gold mine of potential you know is sitting in your business? RIGHT NOW!
X-ALT-DESC;FMTTYPE=text/html:<div><br />\n<strong><span style="color:red"><span style="font-size:12pt">ATTENTION:</span></span></strong><strong><span style="color:#0070c0"><span style="font-size:12pt">SUCCESS-ORIENTED BUSINESS OWNERS</span></span></strong><br />\n&nbsp\;</div>\n\n<div><span style="color:#0070c0"><span style="font-size:14pt">What is keeping your business from peak performance?</span></span></div>\n\n<div>&nbsp\;<br />\n<span style="color:#595959"><span style="font-size:16pt">Join us for:</span></span><br />\n&nbsp\;<br />\n<strong><span style="color:red"><span style="font-size:48pt">5</span></span></strong><strong><span style="font-size:48pt">&nbsp\;<span style="color:#0070c0">Ways&nbsp\;</span></span></strong><span style="color:red"><span style="font-size:16pt">to Massive Profits&hellip\;</span></span></div>\n\n<h3><strong>You will develop the confidence to take immediate action when you learn the answers to your questions at our free seminar</strong></h3>\n\n<div><span style="font-size:18px">&nbsp\;<span style="color:rgb(0\, 0\, 255)">What You&rsquo\;ll Learn at&nbsp\;&lsquo\;5 Ways to Massive Profits&rsquo\;:</span></span><br />\n&nbsp\;<br />\n<span style="font-size:14px"><span style="color:#FF0000">&bull\;</span>What are the &ldquo\;5 Ways&rdquo\; to Massive Profits?<br />\n<span style="color:#FF0000">&bull\;</span>How can I easily grow my profits by more than 61%?<br />\n<span style="color:#FF0000">&bull\;</span>What tools can I use to measure how well I am doing?<br />\n<span style="color:#FF0000">&bull\;</span>How could my beliefs about marketing be hurting me?<br />\n<span style="color:#FF0000">&bull\;</span>Which of the 350+ strategies available for improving my profit will work for me?<br />\n<br />\nIn just a few hours you will get more ideas on how you can increase your income than you have in the last few months\, maybe even the last few years!</span><br />\n&nbsp\;<br />\n<span style="font-size:14px"><strong>I am going to give you the secrets to unlocking the gold mine of potential you know is sitting in your business?&nbsp\;RIGHT NOW!</strong></span></div>\n
LOCATION:Winter Park Community Center 721 W New England Ave Winter Park\, FL 32789
UID:e.2138.6455
SEQUENCE:3
DTSTAMP:20260423T174957Z
URL:https://business.seminolebusiness.org/events/details/5-ways-to-massive-profits-6455
END:VEVENT

END:VCALENDAR
