BEGIN:VCALENDAR
VERSION:2.0
PRODID:-//ChamberMaster//Event Calendar 2.0//EN
METHOD:PUBLISH
X-PUBLISHED-TTL:P3D
REFRESH-INTERVAL:P3D
CALSCALE:GREGORIAN
BEGIN:VEVENT
DTSTART:20161029T100000Z
DTEND:20161029T170000Z
X-MICROSOFT-CDO-ALLDAYEVENT:FALSE
SUMMARY:5th Annual Ruck Sack March
DESCRIPTION:Camaraderie Foundation challenges you to\n\n"Walk a Mile in Their Boots" \n\nby participating in\n\nthe 5th Annual Ruck Sack March.\n\n\n\nWhat's so Different about Ruck Sack March?\n\nParticipants can choose from three participation levels and three course lengths.\n\nYou can walk for fun or compete as a Runner or Warrior. Warriors must carry a 35 lb. ruck sack or backpack. Then select a 5k\, 10k or 12-mile course length to\n\nparticipate or compete at the level you want.
X-ALT-DESC;FMTTYPE=text/html:<div><span style="color:#006400"><span style="font-size:14px"><span style="font-family:tahoma">Camaraderie Foundation&nbsp\;challenges you to<br />\n<strong>&ldquo\;Walk a Mile in Their Boots&rdquo\; </strong><br />\nby participating in<br />\nthe 5<sup>th</sup> Annual Ruck Sack March.<br />\n<br />\n<em>What&rsquo\;s so Different about Ruck Sack March?</em><br />\nParticipants can choose from three participation levels and three course lengths.<br />\nYou can walk for fun or compete as a Runner or Warrior. Warriors must carry a 35 lb.&nbsp\;ruck sack or backpack. Then select a 5k\, 10k or 12-mile course length to<br />\nparticipate or compete at the level you want. &nbsp\;</span></span></span></div>\n
LOCATION:Medical City Drive Lake Nona\, FL 32827
UID:e.2138.5731
SEQUENCE:3
DTSTAMP:20260425T164722Z
URL:https://business.seminolebusiness.org/events/details/5th-annual-ruck-sack-march-5731
END:VEVENT

END:VCALENDAR
