BEGIN:VCALENDAR
VERSION:2.0
PRODID:-//ChamberMaster//Event Calendar 2.0//EN
METHOD:PUBLISH
X-PUBLISHED-TTL:P3D
REFRESH-INTERVAL:P3D
CALSCALE:GREGORIAN
BEGIN:VEVENT
DTSTART:20170209T220000Z
DTEND:20170210T000000Z
X-MICROSOFT-CDO-ALLDAYEVENT:FALSE
SUMMARY:6th Annual Sweet Wars
DESCRIPTION:Several of Central Florida's top senior care partners and providers are putting their baking skills to the test.  And you're invited to sample and vote on their sweet creations! Funds raised will go to support the Ronald McDonald House Charities.
X-ALT-DESC;FMTTYPE=text/html:Several of Central Florida&#39\;s top senior care partners and providers are putting their baking skills to the test.&nbsp\; And you&#39\;re invited to sample and vote on their sweet creations! Funds raised will go to support the Ronald McDonald House Charities.
LOCATION:Atria Park @ Lake Forest 5433 West State Road 46 Sanford\, Florida 32771
UID:e.2138.6424
SEQUENCE:3
DTSTAMP:20260423T161530Z
URL:https://business.seminolebusiness.org/events/details/6th-annual-sweet-wars-6424
END:VEVENT

END:VCALENDAR
