BEGIN:VCALENDAR
VERSION:2.0
PRODID:-//ChamberMaster//Event Calendar 2.0//EN
METHOD:PUBLISH
X-PUBLISHED-TTL:P3D
REFRESH-INTERVAL:P3D
CALSCALE:GREGORIAN
BEGIN:VEVENT
DTSTART:20170602T103000Z
DTEND:20170602T180000Z
X-MICROSOFT-CDO-ALLDAYEVENT:FALSE
SUMMARY:7th Annual Pars & Stripes Forever Golf Tournament
DESCRIPTION:JOIN US FOR A GREAT DAY OF GOLF\n\nHELP SUPPORT A GREATER CAUSE\n\nCamaraderie Foundation headquartered in Orlando that provides counseling services\n\nto hundreds of Post - 9/11 Veterans\, Service Members and their families every year.\n\nHelp us "heal the invisible wounds of war" for even more local heroes by sponsoring our\n\nPars & Stripes Forever Golf Tournament in honor of those who have served.\n\n \n\n \n\nFOR MORE INFORMATION OR TO REGISTER:\n\nWWW.PARSANDSTRIPES2017.KINTERA.ORG\n\n\n(407) 841-0071 or events@camaraderiefoundation.org\n\nSponsorship Package: \n\n$5\,000 BIRDIE SPONSOR\n\nFour packages available ($4\,213 tax deductible)\n\n\n	Two (2) Foursome entries\n	Logo\, hyperlink and business description on website for one year\n	Quote from company representative on website\n	Logo promoted on golf tournament website\n	Promoted through social media and e-newsletters \n	Logo on all collateral and signage\n	Logo on signage at Awards Ceremony and Lunch\n	Logo at four tee boxes and on golf cart GPS system at four holes\n	Logo on all event materials\n	Company information in golfer packets\n\n\n$2\,500 PAR SPONSOR\n\n ($2\,106 tax deductible)\n\n\n	One (1) Foursome entry\n	Name and business description on website through December 2017\n	Name promoted on golf tournament sign up page\n	Promoted through social media and e-newsletters\n	Logo on all collateral and signage\n	Logo on signage at Awards Ceremony and Lunch\n	Logo at two tee boxes and on golf cart GPS system at two holes\n	Logo on all event materials\n\n\n$2\,000 BEVERAGE TICKET SPONSOR\n\n?Two packages available ($1\,606 tax deductible)\n\n \n\n\n	One foursome entry\n	Business Card image or logo on    of all Beverage Tickets\n	Logo on golf cart signage\n	Logo on golf cart signage and GPS system on one hole\n\n\nADDITIONAL SPONSORSHIP LEVELS\n\n$1\,000 TIN CUP FOURSOME SPONSOR\n\n($606 tax deductible)\n\n\n	One foursome entry including Veteran entry\n	Signage on one tee box \n\n\n$800 HOLE SIGN w/GPS & GOLFER SPONSOR\n\n($702 tax deductible)\n\n\n	Single player entry\n	Logo at one tee box and on golf cart GPS system at one hole\n\n\n$750 FOURSOME REGISTRATION\n\n($356 tax deductible)\n\n \n\n$500 HOLE SIGN w/GOLFER SPONSOR\n\n($402 tax deductible)\n\n\n	Single player entry\n	Logo at one tee box\n\n\n \n\n$300 HOLE SIGN SPONSOR\n\n($300 tax deductible)\n\n\n	Logo at one tee box\n\n\n $200 SINGLE PLAYER REGISTRATION\n\n($102 tax deductible)
X-ALT-DESC;FMTTYPE=text/html:<div><span style="font-size:26px"><strong><span style="color:#B22222">JOIN US FOR A GREAT DAY OF GOLF</span><br />\n<span style="color:#003399">HELP SUPPORT A GREATER CAUSE</span></strong></span><br />\nCamaraderie Foundation headquartered in Orlando&nbsp\;that provides counseling services<br />\nto hundreds of Post - 9/11 Veterans\, Service Members and their families every year.<br />\nHelp us &ldquo\;heal the invisible wounds of war&rdquo\; for even more local heroes by sponsoring our<br />\nPars &amp\; Stripes Forever Golf Tournament in honor of those who have served.</div>\n\n<div>&nbsp\;</div>\n\n<div>&nbsp\;</div>\n\n<div><span style="color:#B22222"><span style="font-size:24px">FOR MORE INFORMATION OR TO REGISTER:</span></span></div>\n\n<div><span style="color:#003399"><strong>WWW.PARSANDSTRIPES2017.KINTERA.ORG</strong></span></div>\n\n<div style="text-align: center\;">\n<div style="text-align: left\;"><span style="color:#003399"><strong>(407) 841-0071 or events@camaraderiefoundation.org</strong></span></div>\n\n<div style="text-align: left\;"><span style="color: rgb(178\, 34\, 34)\;"><span style="font-size: 26px\;"><strong>Sponsorship Package:&nbsp\;</strong></span></span></div>\n\n<div style="text-align: left\;"><span style="font-size: 16px\;"><span style="color: rgb(0\, 51\, 153)\;"><strong>$5\,000 BIRDIE SPONSOR</strong></span></span><br />\n<span style="font-size: 12px\;"><span style="font-size: 14px\;">Four packages available ($4\,213 tax deductible)</span></span></div>\n\n<ul style="margin-left: 120px\;">\n	<li style="text-align: left\;"><span style="font-size: 14px\;">Two (2) Foursome entries</span></li>\n	<li style="text-align: left\;"><span style="font-size: 14px\;">Logo\, hyperlink and business description on website for one year</span></li>\n	<li style="text-align: left\;"><span style="font-size: 14px\;">Quote from company representative on website</span></li>\n	<li style="text-align: left\;"><span style="font-size: 14px\;">Logo promoted on golf tournament website</span></li>\n	<li style="text-align: left\;"><span style="font-size: 14px\;">Promoted through social media and e-newsletters&nbsp\;</span></li>\n	<li style="text-align: left\;"><span style="font-size: 14px\;">Logo on all collateral and signage</span></li>\n	<li style="text-align: left\;"><span style="font-size: 14px\;">Logo on signage at Awards Ceremony and Lunch</span></li>\n	<li style="text-align: left\;"><span style="font-size: 14px\;">Logo at four tee boxes and on golf cart GPS system at four holes</span></li>\n	<li style="text-align: left\;"><span style="font-size: 14px\;">Logo on all event materials</span></li>\n	<li style="text-align: left\;"><span style="font-size: 14px\;">Company information in golfer packets</span></li>\n</ul>\n\n<div style="text-align: left\;"><span style="font-size: 16px\;"><span style="color: rgb(0\, 51\, 153)\;"><strong>$2\,500 PAR SPONSOR</strong></span></span><br />\n<span style="color: rgb(105\, 105\, 105)\;"><span style="font-size: 12px\;">&nbsp\;($2\,106 tax deductible)</span></span></div>\n\n<ul style="margin-left: 120px\;">\n	<li style="text-align: left\;"><span style="font-size: 14px\;">One (1) Foursome entry</span></li>\n	<li style="text-align: left\;"><span style="font-size: 14px\;">Name and business description on website through December 2017</span></li>\n	<li style="text-align: left\;"><span style="font-size: 14px\;">Name promoted on golf&nbsp\;tournament sign&nbsp\;up page</span></li>\n	<li style="text-align: left\;"><span style="font-size: 14px\;">Promoted through social media and e-newsletters</span></li>\n	<li style="text-align: left\;"><span style="font-size: 14px\;">Logo on all collateral and signage</span></li>\n	<li style="text-align: left\;"><span style="font-size: 14px\;">Logo on signage at Awards&nbsp\;Ceremony and&nbsp\;Lunch</span></li>\n	<li style="text-align: left\;"><span style="font-size: 14px\;">Logo at two tee boxes and on golf cart GPS system at two holes</span></li>\n	<li style="text-align: left\;"><span style="font-size: 14px\;">Logo on all event materials</span></li>\n</ul>\n\n<div style="text-align: left\;"><span style="font-size: 14px\;"><span style="color: rgb(0\, 51\, 153)\;"><strong><span style="font-size: 16px\;">$2\,000 BEVERAGE TICKET SPONSOR</span></strong></span><br />\n?Two packages available ($1\,606 tax deductible)</span></div>\n\n<div style="text-align: left\;">&nbsp\;</div>\n\n<ul style="margin-left: 120px\;">\n	<li style="text-align: left\;"><span style="font-size: 14px\;">One foursome entry</span></li>\n	<li style="text-align: left\;"><span style="font-size: 14px\;">Business Card image or logo on &nbsp\;&frac12\; of all Beverage Tickets</span></li>\n	<li style="text-align: left\;"><span style="font-size: 14px\;">Logo on golf cart signage</span></li>\n	<li style="text-align: left\;"><span style="font-size: 14px\;">Logo on golf cart signage and GPS system on one hole</span></li>\n</ul>\n\n<div style="text-align: left\;"><span style="font-size: 18px\;"><span style="color: rgb(178\, 34\, 34)\;"><strong>ADDITIONAL SPONSORSHIP LEVELS</strong></span></span></div>\n\n<div style="text-align: left\;"><span style="font-size: 14px\;"><strong><span style="color: rgb(0\, 51\, 153)\;">$1\,000 TIN CUP FOURSOME SPONSOR</span></strong><br />\n($606 tax deductible)</span></div>\n\n<ul style="margin-left: 120px\;">\n	<li style="text-align: left\;"><span style="font-size: 14px\;">One foursome entry including Veteran entry</span></li>\n	<li style="text-align: left\;"><span style="font-size: 14px\;">Signage on one tee box&nbsp\;</span></li>\n</ul>\n\n<div style="text-align: left\;"><span style="font-size: 14px\;"><span style="color: rgb(0\, 51\, 153)\;"><strong>$800 HOLE SIGN w/GPS &amp\; GOLFER SPONSOR</strong></span><br />\n($702 tax deductible)</span></div>\n\n<ul style="margin-left: 120px\;">\n	<li style="text-align: left\;"><span style="font-size: 14px\;">Single player entry</span></li>\n	<li style="text-align: left\;"><span style="font-size: 14px\;">Logo at one tee box and on golf cart GPS system at one hole</span></li>\n</ul>\n\n<div style="text-align: left\;"><span style="font-size: 14px\;"><span style="color: rgb(0\, 51\, 153)\;"><strong>$750 FOURSOME REGISTRATION</strong></span><br />\n($356 tax deductible)</span><br />\n&nbsp\;</div>\n\n<div style="text-align: left\;"><span style="font-size: 14px\;"><span style="color: rgb(0\, 51\, 153)\;"><strong>$500 HOLE SIGN w/GOLFER SPONSOR</strong></span><br />\n($402 tax deductible)</span></div>\n\n<ul style="margin-left: 120px\;">\n	<li style="text-align: left\;"><span style="font-size: 14px\;">Single player entry</span></li>\n	<li style="text-align: left\;"><span style="font-size: 14px\;">Logo at one tee box</span></li>\n</ul>\n\n<div style="text-align: left\;"><span style="font-size: 14px\;">&nbsp\;</span></div>\n\n<div style="text-align: left\;"><span style="font-size: 14px\;"><span style="color: rgb(0\, 51\, 153)\;"><strong>$300 HOLE SIGN SPONSOR</strong></span><br />\n($300 tax deductible)</span></div>\n\n<ul style="margin-left: 120px\;">\n	<li style="text-align: left\;"><span style="font-size: 14px\;">Logo at one tee box</span></li>\n</ul>\n\n<div style="text-align: left\;"><span style="color: rgb(0\, 51\, 153)\;"><span style="font-size: 14px\;"><strong>&nbsp\;$200 SINGLE PLAYER REGISTRATION</strong></span></span><br />\n<span style="font-size: 14px\;">($102 tax deductible)</span></div>\n</div>\n
LOCATION:Reunion Resort Golf 7593 Gathering Drive Kissimmee\, FL 34747
UID:e.2138.6700
SEQUENCE:3
DTSTAMP:20260423T223301Z
URL:https://business.seminolebusiness.org/events/details/7th-annual-pars-stripes-forever-golf-tournament-6700
END:VEVENT

END:VCALENDAR
