BEGIN:VCALENDAR
VERSION:2.0
PRODID:-//ChamberMaster//Event Calendar 2.0//EN
METHOD:PUBLISH
X-PUBLISHED-TTL:P3D
REFRESH-INTERVAL:P3D
CALSCALE:GREGORIAN
BEGIN:VEVENT
DTSTART:20170511T160000Z
DTEND:20170511T170000Z
X-MICROSOFT-CDO-ALLDAYEVENT:FALSE
SUMMARY:9 Marketing Secrets for Small Business
DESCRIPTION:Many Small Businesses fail because they don't know how to market wisely and methodically\, causing themselves to waste money on advertising programs that are right for the advertiser but wrong for them.
X-ALT-DESC;FMTTYPE=text/html:Many Small Businesses fail because they don&#39\;t know how to market wisely and methodically\, causing themselves to waste money on advertising programs that are right for the advertiser but wrong for them.
LOCATION:On the web.
UID:e.2138.6477
SEQUENCE:3
DTSTAMP:20260423T210800Z
URL:https://business.seminolebusiness.org/events/details/9-marketing-secrets-for-small-business-05-11-2017-6477
END:VEVENT

END:VCALENDAR
