BEGIN:VCALENDAR
VERSION:2.0
PRODID:-//ChamberMaster//Event Calendar 2.0//EN
METHOD:PUBLISH
X-PUBLISHED-TTL:P3D
REFRESH-INTERVAL:P3D
CALSCALE:GREGORIAN
BEGIN:VEVENT
DTSTART:20180407T130000Z
DTEND:20180407T180000Z
X-MICROSOFT-CDO-ALLDAYEVENT:FALSE
SUMMARY:9th Annual Family Fun Day
DESCRIPTION:The 9th annual Family Fun Day event is filled with food\, friends\, and FUN! The event features multiple bounce-houses\, DJ entertainment\, kids games\, and is intertwined with the Lake Mary Farmers Market. \n\n\n\n \n\n\n\nMark your calendar for this popular family event that you won't wanna miss!\n\n\n\nPlease contact Jessica Hodgins for Sponsorship Opportunities at jhodgins@lakemaryfl.com or 407.585.1421.
X-ALT-DESC;FMTTYPE=text/html:<div>\n<div><span style="font-family:inherit">The 9th annual Family Fun Day event is filled with food\, friends\, and FUN! The event features multiple bounce-houses\, DJ entertainment\, kids games\, and is intertwined with the Lake Mary Farmers Market. </span></div>\n</div>\n\n<div>\n<div>&nbsp\;</div>\n</div>\n\n<div>\n<div><span style="font-family:inherit">Mark your calendar for this popular family event that you won&#39\;t wanna miss!</span><br />\n<br />\n<span style="font-family:arial\,sans-serif"><span style="font-size:10pt">Please contact&nbsp\;</span></span><strong><span style="font-family:arial\,sans-serif">Jessica Hodgins</span></strong>&nbsp\;for Sponsorship Opportunities at&nbsp\;<strong><span style="font-family:arial\,sans-serif">jhodgins@lakemaryfl.com</span></strong>&nbsp\;or&nbsp\;<strong><span style="font-family:arial\,sans-serif">407.585.1421</span></strong>.<br />\n&nbsp\;</div>\n</div>\n
LOCATION:Central Park by Lake Mary City Hall 100 N. Country Club Road Lake Mary\, FL 32746 (On the corner of Lake Mary Blvd. & 4th Street)
UID:e.2138.8685
SEQUENCE:3
DTSTAMP:20260424T120237Z
URL:https://business.seminolebusiness.org/events/details/9th-annual-family-fun-day-8685
END:VEVENT

END:VCALENDAR
