BEGIN:VCALENDAR
VERSION:2.0
PRODID:-//ChamberMaster//Event Calendar 2.0//EN
METHOD:PUBLISH
X-PUBLISHED-TTL:P3D
REFRESH-INTERVAL:P3D
CALSCALE:GREGORIAN
BEGIN:VEVENT
DTSTART:20170923T113000Z
DTEND:20170923T133000Z
X-MICROSOFT-CDO-ALLDAYEVENT:FALSE
SUMMARY:9th Annual "Friends Helping Friends" 5K Fun Run/Walk- Benefiting the SafeHouse- Presented by Walk on Water
DESCRIPTION:Join the effort to save lives and end domestic violence by participating in the 9th annual "Friends Helping Friends" 5K Fun Run/Walk and Health & Fitness Expo.  Last year\, corporate sponsors\, along with more than 1\,000 race participants and Health Expo attendees\, generated over $41\,000 in donations for SafeHouse\, the only state-certified domestic violence center in Seminole County.
X-ALT-DESC;FMTTYPE=text/html:<span style="font-size:14px">Join the effort to save lives and end domestic violence by participating in the <strong>9th annual &quot\;Friends Helping Friends&quot\; 5K Fun Run/Walk and Health &amp\; Fitness Expo</strong>. &nbsp\;Last year\, corporate sponsors\, along with more than 1\,000 race participants and Health Expo attendees\, generated <strong>over $41\,000 in donations for SafeHouse</strong>\, the only state-certified domestic violence center in Seminole County.</span>
LOCATION:Our 5k race has a beautiful route that starts in Colonial Town Park\, Lake Mary\, FL and takes you out towards Heathrow and turns right on Orange Avenue\, taking you to the Seminole Wekiva Trail and back to beautiful Colonial Town Park. The natural scenery on this route is amazing. This is sure to be a great event whether you race\, run\, walk\, visit the Health & Fitness Expo or just join in to help our local community!
UID:e.2138.6672
SEQUENCE:3
DTSTAMP:20260424T031338Z
URL:https://business.seminolebusiness.org/events/details/9th-annual-friends-helping-friends-5k-fun-run-walk-benefiting-the-safehouse-presented-by-walk-on-water-6672
END:VEVENT

END:VCALENDAR
