BEGIN:VCALENDAR
VERSION:2.0
PRODID:-//ChamberMaster//Event Calendar 2.0//EN
METHOD:PUBLISH
X-PUBLISHED-TTL:P3D
REFRESH-INTERVAL:P3D
CALSCALE:GREGORIAN
BEGIN:VEVENT
DTSTART:20240126T123000Z
DTEND:20240126T203000Z
X-MICROSOFT-CDO-ALLDAYEVENT:FALSE
SUMMARY:9th Annual Leadership Summit: Leading Without Limits
DESCRIPTION:Leadership Summit: Leading Without Limits\n\nJoin us for a full day of dynamic\, engaging sessions with experts from Central Florida and beyond as we learn how to lead without limits! The 9th annual summit promises to be one you will not forget.   Secure your ticket or a table today! \n\nBreakfast and lunch will be provided. Tickets are non-refundable.
X-ALT-DESC;FMTTYPE=text/html:<p style="text-align:center"><strong>Leadership Summit: Leading Without Limits</strong></p>\n\n<p>Join us for a full day of dynamic\, engaging sessions with experts from Central Florida and beyond as we learn how to lead without limits! The 9th annual summit promises to be one you will not forget.&nbsp\; &nbsp\;Secure your ticket or a table today!&nbsp\;</p>\n\n<p style="text-align:center">Breakfast and lunch will be provided.&nbsp\;<em>Tickets are&nbsp\;</em><em>non-refundable.</em></p>\n
LOCATION:The Rink at Northland Church 522 Dog Track Rd Longwood\, FL 32750
UID:e.2138.33573
SEQUENCE:3
DTSTAMP:20260424T185211Z
URL:https://business.seminolebusiness.org/events/details/9th-annual-leadership-summit-leading-without-limits-33573
END:VEVENT

END:VCALENDAR
