BEGIN:VCALENDAR
VERSION:2.0
PRODID:-//ChamberMaster//Event Calendar 2.0//EN
METHOD:PUBLISH
X-PUBLISHED-TTL:P3D
REFRESH-INTERVAL:P3D
CALSCALE:GREGORIAN
BEGIN:VEVENT
DTSTART:20190531T103000Z
DTEND:20190531T180000Z
X-MICROSOFT-CDO-ALLDAYEVENT:FALSE
SUMMARY:9th Annual PARS & Stripes Forever Golf Tournament
DESCRIPTION:The annual PARS Golf Tournament is a fundraising event for the Camaraderie Foundation. Camaraderie Foundation's mission is to provide healing for the invisible wounds of war through counseling\, emotional and spiritual support for all branches of Post-9/11 Veterans\, Service Members and their families.
X-ALT-DESC;FMTTYPE=text/html:<span style="color: rgb(51\, 51\, 51)\; font-family: sans-serif\,arial\,verdana\,trebuchet ms\; font-size: 13px\; background-color: rgb(255\, 255\, 255)\;">The annual PARS Golf Tournament is a fundraising event for the Camaraderie Foundation. Camaraderie Foundation&#39\;s mission is to provide healing for the invisible wounds of war through counseling\, emotional and spiritual support for all branches of Post-9/11 Veterans\, Service Members and their families.&nbsp\;</span>
LOCATION:Reunion Resort Golf Course 7593 Gathering Drive Kissimmee\, FL 34747
UID:e.2138.15151
SEQUENCE:3
DTSTAMP:20260422T081157Z
URL:https://business.seminolebusiness.org/events/details/9th-annual-pars-stripes-forever-golf-tournament-15151
END:VEVENT

END:VCALENDAR
