BEGIN:VCALENDAR
VERSION:2.0
PRODID:-//ChamberMaster//Event Calendar 2.0//EN
METHOD:PUBLISH
X-PUBLISHED-TTL:P3D
REFRESH-INTERVAL:P3D
CALSCALE:GREGORIAN
BEGIN:VEVENT
DTSTART:20251011T150000Z
DTEND:20251011T180000Z
X-MICROSOFT-CDO-ALLDAYEVENT:FALSE
SUMMARY:9th Annual Pumpkin Painting
DESCRIPTION:Join the Deborah Morris Home Team at the Community United Methodist Church in Casselberry for our 9th Annual Pumpkin Painting event. Must register to receive the free pumpkin.\n\n\n\nThe Deborah Morris Home Team\, Atlantic Bay Mortgage\, Steffanie Rigetta Insurance Agency\, POW Artists and Magnolia Closings Co will be be presenting a gift basket to the lucky registrant.\n\n\n\n \n\nWe look forward to seeing everyone there!
X-ALT-DESC;FMTTYPE=text/html:<div><span style="font-size:16px">Join the Deborah Morris Home Team at the Community United Methodist Church in Casselberry for our 9th Annual Pumpkin Painting event. Must register to receive the free pumpkin.<br />\n<br />\n<span style="color:rgb(32\, 33\, 36)\; font-family:roboto\,arial\,sans-serif">The Deborah Morris Home Team\, Atlantic Bay Mortgage\, Steffanie Rigetta Insurance Agency\, POW Artists and Magnolia Closings Co will be be presenting a gift basket to the lucky registrant.</span></span><br />\n<br />\n&nbsp\;</div>\n\n<div><span style="font-size:16px">We look forward to seeing everyone there!</span></div>\n
LOCATION:Community United Methodist Church 4291 S US 17-92 Casselberry\, FL 32707
UID:e.2138.38533
SEQUENCE:3
DTSTAMP:20260423T053555Z
URL:https://business.seminolebusiness.org/events/details/9th-annual-pumpkin-painting-38533
END:VEVENT

END:VCALENDAR
