BEGIN:VCALENDAR
VERSION:2.0
PRODID:-//ChamberMaster//Event Calendar 2.0//EN
METHOD:PUBLISH
X-PUBLISHED-TTL:P3D
REFRESH-INTERVAL:P3D
CALSCALE:GREGORIAN
BEGIN:VEVENT
DTSTART:20181013T140000Z
DTEND:20181013T170000Z
X-MICROSOFT-CDO-ALLDAYEVENT:FALSE
SUMMARY:9th Annual Walk-n-Roll-a-Thon
DESCRIPTION:Clients\, family\, friends and concerned individuals "Walk" for those with Spinal Cord Injuries that are trying to further their recovery efforts. This fun and uplifting event gets more and more recognition each year!\n\nThe event will showcase a handful of our clients' hard work by having them "walk" down a red carpet following the walk around the lake. This is a real tear jerker for those who have never witnessed the amazing progress these individuals have achieved. The local news media will be in attendance and feature our story. There will be vendor booths\, food trucks\, and many raffle prizes.
X-ALT-DESC;FMTTYPE=text/html:<span style="font-size: 9pt\;">Clients\, family\, friends and concerned individuals &ldquo\;Walk&rdquo\; for those with Spinal Cord Injuries that are trying to further their recovery efforts. This fun and uplifting event gets more and more recognition each year!</span><br />\n<span style="font-size: 9pt\;">The event will showcase a handful of our clients&rsquo\; hard work by having them &ldquo\;walk&rdquo\; down a red carpet following the walk around the lake. This is a real tear jerker for those who have never witnessed the amazing progress these individuals have achieved. The local news media will be in attendance and feature our story. There will be vendor booths\, food trucks\, and many raffle prizes.</span>
LOCATION:Cranes Roost Park 274 Cranes Roost Blvd Altamonte Springs\, FL 32701
UID:e.2138.11809
SEQUENCE:3
DTSTAMP:20260424T021325Z
URL:https://business.seminolebusiness.org/events/details/9th-annual-walk-n-roll-a-thon-11809
END:VEVENT

END:VCALENDAR
