BEGIN:VCALENDAR
VERSION:2.0
PRODID:-//ChamberMaster//Event Calendar 2.0//EN
METHOD:PUBLISH
X-PUBLISHED-TTL:P3D
REFRESH-INTERVAL:P3D
CALSCALE:GREGORIAN
BEGIN:VEVENT
DTSTART:20190928T220000Z
DTEND:20190929T003000Z
X-MICROSOFT-CDO-ALLDAYEVENT:FALSE
SUMMARY:A Night of HOPE
DESCRIPTION:YOU DON'T WANT TO MISS THIS!\n\nCome hear about lives changed and hope given at Christian HELP's annual fundraiser\, A Night of Hope!\n\nActivities Include:\n\nHors d'oeuvres & Dessert . Silent Auction . Illusionist . Musical Guest . Client Stories . Opportunity to Partner\n\n\n\nTickets: $50 Individual/$90 Couple\n\nPurchase tickets at: http://www.christianhelp.org/anightofhope\n\n\n\nPREVENTING HOMELESSNESS...YOU ARE APART OF THE SOLUTION!
X-ALT-DESC;FMTTYPE=text/html:YOU DON&#39\;T WANT TO MISS THIS!<br />\nCome hear about lives changed and hope given at Christian HELP&#39\;s annual fundraiser\, A Night of Hope!<br />\nActivities Include:<br />\nHors d&#39\;oeuvres &amp\; Dessert . Silent Auction . Illusionist . Musical Guest . Client Stories . Opportunity to Partner<br />\n<br />\nTickets: $50 Individual/$90 Couple<br />\nPurchase tickets at:&nbsp\;<a href="http://www.christianhelp.org/anightofhope">http://www.christianhelp.org/anightofhope</a><br />\n<br />\nPREVENTING HOMELESSNESS...YOU ARE APART OF THE SOLUTION!<br />\n<br />\n&nbsp\;
LOCATION:FULL SAIL LIVE VENUE 141 University park dr.\, Winter Park\, FL 32792
UID:e.2138.16565
SEQUENCE:3
DTSTAMP:20260422T022011Z
URL:https://business.seminolebusiness.org/events/details/a-night-of-hope-16565
END:VEVENT

END:VCALENDAR
