BEGIN:VCALENDAR
VERSION:2.0
PRODID:-//ChamberMaster//Event Calendar 2.0//EN
METHOD:PUBLISH
X-PUBLISHED-TTL:P3D
REFRESH-INTERVAL:P3D
CALSCALE:GREGORIAN
BEGIN:VEVENT
DTSTART:20190921T220000Z
DTEND:20190922T020000Z
X-MICROSOFT-CDO-ALLDAYEVENT:FALSE
SUMMARY:A Wild Affair: Excursion to the Exotic
DESCRIPTION:This year's A Wild Affair: Excursion to the Exotic will feature a delicious themed menu\, silent and live auctions\, live entertainment\, and a program highlighting the important work of the Central Florida Zoo & Botanical Gardens.
X-ALT-DESC;FMTTYPE=text/html:<div><span style="font-size:14px"><span style="font-family:arial\,helvetica\,sans-serif">This year&rsquo\;s <em>A Wild Affair: Excursion to the Exotic</em> will feature a delicious themed menu\, silent and live auctions\, live entertainment\, and a program highlighting the important work of the Central Florida Zoo &amp\; Botanical Gardens.</span></span></div>\n\n<div style="text-align:center">&nbsp\;</div>\n
LOCATION:ORLANDO MARRIOTT LAKE MARY 1501 INTERNATIONAL PKWY LAKE MARY FL 32746
UID:e.2138.16554
SEQUENCE:3
DTSTAMP:20260422T021735Z
URL:https://business.seminolebusiness.org/events/details/a-wild-affair-excursion-to-the-exotic-16554
END:VEVENT

END:VCALENDAR
