BEGIN:VCALENDAR
VERSION:2.0
PRODID:-//ChamberMaster//Event Calendar 2.0//EN
METHOD:PUBLISH
X-PUBLISHED-TTL:P3D
REFRESH-INTERVAL:P3D
CALSCALE:GREGORIAN
BEGIN:VEVENT
DTSTART:20180409T130000Z
DTEND:20180409T153000Z
X-MICROSOFT-CDO-ALLDAYEVENT:FALSE
SUMMARY:Active Shooter Training for Businesses Workshop
DESCRIPTION:Given today's ever-changing threat environment\, preparing for and training employees to cope with workplace violence and active shooter situations has become a critical piece of an organization's incident response planning.\n\n\n\nThis workshop is ideal for private sector partners in our business communities\, personnel who are implementing an active shooter training program\, and/or developing an active shooter plan for their organization.\n\n\n\nThis training is made possible through the Department of Homeland Security\, the Seminole County Sheriff's Office\, the Seminole County Fire Department\, and Seminole County Government.
X-ALT-DESC;FMTTYPE=text/html:<span style="font-family: arial\,sans-serif\;"><span style="font-size: 10pt\;">Given today&#39\;s ever-changing threat environment\, preparing for and training employees to cope with workplace violence and active shooter situations has become a critical piece of an organization&rsquo\;s incident response planning.</span></span><br />\n<br />\n<span style="font-family: arial\,sans-serif\;"><span style="font-size: 10pt\;">This workshop is ideal for private sector partners in our business communities\, personnel who are implementing an active shooter training program\, and/or developing an active shooter plan for their organization.<br />\n<br />\nThis training is made possible through the Department of Homeland Security\, the Seminole County Sheriff&#39\;s Office\, the Seminole County Fire Department\, and Seminole County Government.&nbsp\;</span></span><br />\n&nbsp\;
LOCATION:Seminole County Sheriff's Office Professional Development Training Center 2772 Depot Ave.\, Sanford\, FL 32773
UID:e.2138.8825
SEQUENCE:3
DTSTAMP:20260424T120105Z
URL:https://business.seminolebusiness.org/events/details/active-shooter-training-for-businesses-workshop-8825
END:VEVENT

END:VCALENDAR
