BEGIN:VCALENDAR
VERSION:2.0
PRODID:-//ChamberMaster//Event Calendar 2.0//EN
METHOD:PUBLISH
X-PUBLISHED-TTL:P3D
REFRESH-INTERVAL:P3D
CALSCALE:GREGORIAN
BEGIN:VEVENT
DTSTART:20180616T230000Z
DTEND:20180617T010000Z
X-MICROSOFT-CDO-ALLDAYEVENT:FALSE
SUMMARY:Africa Wine Dinner Tour
DESCRIPTION:Join us for a four course African dinner tour!
X-ALT-DESC;FMTTYPE=text/html:Join us for a four course African dinner tour!
LOCATION:Heathrow Counrty Club 1200 Bridgewater Dr\, Heathrow\, FL 32746
UID:e.2138.9428
SEQUENCE:3
DTSTAMP:20260424T083431Z
URL:https://business.seminolebusiness.org/events/details/africa-wine-dinner-tour-9428
END:VEVENT

END:VCALENDAR
