BEGIN:VCALENDAR
VERSION:2.0
PRODID:-//ChamberMaster//Event Calendar 2.0//EN
METHOD:PUBLISH
X-PUBLISHED-TTL:P3D
REFRESH-INTERVAL:P3D
CALSCALE:GREGORIAN
BEGIN:VEVENT
DTSTART:20250826T213000Z
DTEND:20250826T233000Z
X-MICROSOFT-CDO-ALLDAYEVENT:FALSE
SUMMARY:AI Tools & Automations for Small Business Growth
DESCRIPTION:Key Takeaways:\n\n	Fill your sales pipeline with qualified\,\n	AI-powered leads\n	Engage and convert customers automatically\n	Streamline your sales funnel for max results\n	Live demos and actionable strategies
X-ALT-DESC;FMTTYPE=text/html:Key Takeaways:\n<ul>\n	<li>Fill your sales pipeline with qualified\,</li>\n	<li>AI-powered leads</li>\n	<li>Engage and convert customers automatically</li>\n	<li>Streamline your sales funnel for max results</li>\n	<li>Live demos and actionable strategies</li>\n</ul>\n
LOCATION:Seminole County Library North 150 N. Palmetto Ave. Sanford\, FL 32771
UID:e.2138.37863
SEQUENCE:3
DTSTAMP:20260423T091159Z
URL:https://business.seminolebusiness.org/events/details/ai-tools-automations-for-small-business-growth-37863
END:VEVENT

END:VCALENDAR
