BEGIN:VCALENDAR
VERSION:2.0
PRODID:-//ChamberMaster//Event Calendar 2.0//EN
METHOD:PUBLISH
X-PUBLISHED-TTL:P3D
REFRESH-INTERVAL:P3D
CALSCALE:GREGORIAN
BEGIN:VEVENT
DTSTART:20170616T113000Z
DTEND:20170616T130000Z
X-MICROSOFT-CDO-ALLDAYEVENT:FALSE
SUMMARY:All Councils Chamber New Year Celebration
DESCRIPTION:All Councils Chamber\n\nNew Year Celebration!\n\n\n\nNetwork\, Connect\, Grow \n\n\n\nJoin the Altamonte\, Lake Mary and Longwood Councils for a special "Chamber Year Celebration" networking event.\n\n \n\nTooJay's will be providing a HOT BREAKFAST of french toast\, eggs\, bacon and other yummy treats.\n\n \n\nThere will be a gift basket drawing for anyone that brings a GUEST. No limit on entries. Gift basket contains $50 Santiago's Bodega gift card\, bottle of wine\, bottle of vodka and Edible Arrangements chocolate covered strawberries.\n\n \n\nThis is another Seminole Regional Chamber of Commerce FREE Member benefit for you to network\, connect with area businesses and spotlight your business.\n\n \n\n\n\n\n\nIf you would like to attend as a guest\, contact David Grainer\, Membership Account Executive at 407-708-4608 or dgrainer@seminolebusiness.org.\n\n\n\nAttendance at or participation in SCRCC meetings and events constitutes an agreement by the registrant to SCRCC's use and distribution (both now and in the future) of the registrant or attendee's image or voice in photographs\, videotapes\, electronic reproductions and audiotapes of all events and activities
X-ALT-DESC;FMTTYPE=text/html:<p class="MsoNormal" style="text-align: center\;"><br />\n<br />\n<strong><span style="font-size:22px\;">All Councils Chamber<br />\nNew Year Celebration!</span></strong><br />\n<br />\n<span new="" style="color: rgb(0\, 0\, 0)\; mso-fareast-font-family: " times=""><span style="font-family: georgia\; font-size: 14px\;"><strong><em><span style="font-size: 16px\;">Network\, Connect\, Grow&nbsp\;</span></em></strong></span></span><br />\n<br />\n<span style="font-family:calibri\,sans-serif\;"><span style="font-size:11.0pt\;">Join the Altamonte\, Lake Mary and Longwood Councils for&nbsp\;a special &ldquo\;Chamber Year Celebration&rdquo\; networking event.</span></span><br />\n&nbsp\;<br />\n<span style="font-family:calibri\,sans-serif\;"><span style="font-size:11.0pt\;">TooJay&rsquo\;s will be providing a HOT BREAKFAST of french toast\, eggs\, bacon and other yummy treats.</span></span><br />\n&nbsp\;<br />\n<span style="font-family:calibri\,sans-serif\;"><span style="font-size:11.0pt\;">There will be a gift basket drawing for anyone that brings a GUEST. No limit on entries. Gift basket contains $50 Santiago&rsquo\;s Bodega gift card\, bottle of wine\, bottle of vodka and Edible Arrangements chocolate covered strawberries.</span></span><br />\n&nbsp\;<br />\n<span style="font-family:calibri\,sans-serif\;"><span style="font-size:11.0pt\;">This is another Seminole Regional Chamber of&nbsp\;Commerce FREE Member benefit for&nbsp\;you to network\,&nbsp\;connect with area businesses and spotlight&nbsp\;your business.</span></span><br />\n&nbsp\;<br />\n<br />\n<br />\n<font face="Georgia">If you would like to attend as a <strong>guest</strong>\, contact David Grainer\, Membership Account Executive at 407-708-4608 or </font><a href="mailto:dgrainer@seminolebusiness.org"><font color="#0066cc" face="Georgia">dgrainer@seminolebusiness.org</font></a><font face="Georgia">.</font><br />\n<br />\n<em style="font-family: arial\; font-size: 9px\; line-height: 14.4px\;"><font color="#000000">Attendance at or participation in&nbsp\;SCRCC&nbsp\;meetings and events constitutes an agreement by the registrant to SCRCC&rsquo\;s use and distribution (both now and in the future) of the registrant or attendee&rsquo\;s image or voice in photographs\, videotapes\, electronic reproductions and audiotapes of all events and activities</font></em></p>\n
LOCATION:St. Stephen Lutheran Church 2140 West State Road 434 Altamonte/Longwood Behind Starbucks & Burger King
UID:e.2138.4564
SEQUENCE:3
DTSTAMP:20260423T223302Z
URL:https://business.seminolebusiness.org/events/details/all-councils-chamber-new-year-celebration-4564
END:VEVENT

END:VCALENDAR
