BEGIN:VCALENDAR
VERSION:2.0
PRODID:-//ChamberMaster//Event Calendar 2.0//EN
METHOD:PUBLISH
X-PUBLISHED-TTL:P3D
REFRESH-INTERVAL:P3D
CALSCALE:GREGORIAN
BEGIN:VEVENT
DTSTART:20170425T230000Z
DTEND:20170426T010000Z
X-MICROSOFT-CDO-ALLDAYEVENT:FALSE
SUMMARY:Alligator Awareness Presentation at the Central Florida Zoo & Botanical Gardens
DESCRIPTION:Welcome to our state you might see some alligators here! Alligator safety is an essential part of living in Florida. Meet a live alligator during this informative presentation on alligator safety and awareness for your family.This is a great program for anyone that spends time on or around waterways in Florida. Registration is available online at www.centralfloridazoo.org or call 407.323.4450 ext. 123 or email education@centralfloridazoo.org for more information.
X-ALT-DESC;FMTTYPE=text/html:<br />\n<span style="font-family:arial narrow\,sans-serif">Welcome to our state&hellip\;you might see some alligators here! Alligator safety is an essential part of living in Florida. Meet a live alligator during this informative presentation on alligator safety and awareness for your family.This is a great program for anyone that spends time on or around waterways in Florida. Registration is available online at </span><a href="http://www.centralfloridazoo.org/"><span style="font-family:arial narrow\,sans-serif">www.centralfloridazoo.org</span></a><span style="font-family:arial narrow\,sans-serif"> or call 407.323.4450 ext. 123 or email </span><a href="mailto:education@centralfloridazoo.org"><span style="font-family:arial narrow\,sans-serif">education@centralfloridazoo.org</span></a><span style="font-family:arial narrow\,sans-serif"> for more information. &nbsp\; &nbsp\;</span>
LOCATION:Central Florida Zoo & Botanical Gardens 3755 NW Hwy 17-92 Sanford\, FL 32771
UID:e.2138.2685
SEQUENCE:3
DTSTAMP:20260423T193850Z
URL:https://business.seminolebusiness.org/events/details/alligator-awareness-presentation-at-the-central-florida-zoo-06-16-2015-2685
END:VEVENT

END:VCALENDAR
