BEGIN:VCALENDAR
VERSION:2.0
PRODID:-//ChamberMaster//Event Calendar 2.0//EN
METHOD:PUBLISH
X-PUBLISHED-TTL:P3D
REFRESH-INTERVAL:P3D
CALSCALE:GREGORIAN
BEGIN:VEVENT
DTSTART:20170505T113000Z
DTEND:20170505T130000Z
X-MICROSOFT-CDO-ALLDAYEVENT:FALSE
SUMMARY:Altamonte Small Business Networking
DESCRIPTION:Altamonte Small Business Networking \n\nNetwork\, Connect\, Grow \n\n\n\n Join the Altamonte Council for networking on the 1st and 3rd Friday of each month plus 5th Friday Roundtable.  This is another Seminole Regional Chamber of Commerce FREE Member benefit for you to network\, connect with area businesses and spotlight your business.\n\n\n\nIf you would like to attend as a guest\, contact David Grainer\, Membership Account Executive at 407-708-4608 or dgrainer@seminolebusiness.org.\n\n\n\nAttendance at or participation in SCRCC meetings and events constitutes an agreement by the registrant to SCRCC's use and distribution (both now and in the future) of the registrant or attendee's image or voice in photographs\, videotapes\, electronic reproductions and audiotapes of all events and activities
X-ALT-DESC;FMTTYPE=text/html:<p class="MsoNormal" style="text-align: center\;"><br />\n<br />\n<span style="color: rgb(0\, 0\, 0)\; mso-fareast-font-family: &quot\;times new roman&quot\;\;"><span style="font-family: georgia\; font-size: 14px\;"><strong><span style="font-size: 16px\;">Altamonte Small Business Networking </span><br />\n<em><span style="font-size: 16px\;">Network\, Connect\, Grow&nbsp\;</span></em></strong></span></span><br />\n<br />\n<span style="font-family: times new roman\;"><span style="font-size: 14px\;"><strong>&nbsp\;</strong></span></span><font face="Georgia">Join the Altamonte Council for&nbsp\;networking on the 1st and 3rd Friday of each month plus 5th Friday Roundtable.&nbsp\; This is another Seminole Regional Chamber of&nbsp\;Commerce FREE Member benefit for&nbsp\;you to network\,&nbsp\;connect with area businesses and spotlight&nbsp\;your business.<br />\n<br />\nIf you would like to attend as a <strong>guest</strong>\, contact David Grainer\, Membership Account Executive at 407-708-4608 or </font><a href="mailto:dgrainer@seminolebusiness.org"><font color="#0066cc" face="Georgia">dgrainer@seminolebusiness.org</font></a><font face="Georgia">.</font><br />\n<br />\n<em style="font-family: arial\; font-size: 9px\; line-height: 14.4px\;"><font color="#000000">Attendance at or participation in&nbsp\;SCRCC&nbsp\;meetings and events constitutes an agreement by the registrant to SCRCC&rsquo\;s use and distribution (both now and in the future) of the registrant or attendee&rsquo\;s image or voice in photographs\, videotapes\, electronic reproductions and audiotapes of all events and activities</font></em></p>\n
LOCATION:St. Stephen Lutheran Church 2140 West State Road 434 Altamonte/Longwood Behind Starbucks & Burger King
UID:e.2138.4558
SEQUENCE:3
DTSTAMP:20260423T205850Z
URL:https://business.seminolebusiness.org/events/details/altamonte-small-business-networking-05-05-2017-4558
END:VEVENT

END:VCALENDAR
