BEGIN:VCALENDAR
VERSION:2.0
PRODID:-//ChamberMaster//Event Calendar 2.0//EN
METHOD:PUBLISH
X-PUBLISHED-TTL:P3D
REFRESH-INTERVAL:P3D
CALSCALE:GREGORIAN
BEGIN:VEVENT
DTSTART:20170929T113000Z
DTEND:20170929T130000Z
X-MICROSOFT-CDO-ALLDAYEVENT:FALSE
SUMMARY:Altamonte Small Business Networking
DESCRIPTION:Altamonte Small Business Networking \n\nNetwork\, Connect\, Grow \n\n\n\n Join the Altamonte Council for networking on the 1st and 3rd Friday of each month plus 5th Friday Roundtable.  This is another Seminole Regional Chamber of Commerce FREE Member benefit for you to network\, connect with area businesses and spotlight your business.\n\n\n\nIf you would like to attend as a guest\, contact Kristi O'Leary\, Membership Account Executive at 407-708-4608 or koleary@seminolebusiness.org \n\n\n\n\n\nAttendance at or participation in SCRCC meetings and events constitutes an agreement by the registrant to SCRCC's use and distribution (both now and in the future) of the registrant or attendee's image or voice in photographs\, videotapes\, electronic reproductions and audiotapes of all events and activities
X-ALT-DESC;FMTTYPE=text/html:<p class="MsoNormal" style="text-align: center\;"><br />\n<br />\n<span new="" style="color: rgb(0\, 0\, 0)\; mso-fareast-font-family: " times=""><span style="font-family: georgia\; font-size: 14px\;"><strong><span style="font-size: 16px\;">Altamonte Small Business Networking </span><br />\n<em><span style="font-size: 16px\;">Network\, Connect\, Grow&nbsp\;</span></em></strong></span></span><br />\n<br />\n<span style="font-family: times new roman\;"><span style="font-size: 14px\;"><strong>&nbsp\;</strong></span></span><font face="Georgia">Join the Altamonte Council for&nbsp\;networking on the 1st and 3rd Friday of each month plus 5th Friday Roundtable.&nbsp\; This is another Seminole Regional Chamber of&nbsp\;Commerce FREE Member benefit for&nbsp\;you to network\,&nbsp\;connect with area businesses and spotlight&nbsp\;your business.</font><br />\n<br />\n<span style="color:black\;"><span style="font-family:georgia\,serif\;"><span style="font-size:10.5pt\;">If you would like to attend as a guest\, contact Kristi O&#39\;Leary\, Membership Account&nbsp\;Executive at 407-708-4608 or </span></span></span><span style="box-sizing: content-box\; font-weight: bolder\; bottom: auto\; clear: none\; content: normal\; direction: inherit\; empty-cells: show\; font-variant-numeric: inherit\; font-stretch: inherit\; font-size: 14px\; font-family: &quot\;Open Sans&quot\;\, sans-serif\; left: auto\; line-height: inherit\; margin: 0px\; max-height: none\; max-width: none\; min-height: initial\; min-width: initial\; opacity: 1\; outline-offset: 0px\; overflow: visible\; padding: 0px\; position: static\; resize: none\; right: auto\; table-layout: auto\; text-align: center\; text-overflow: clip\; top: auto\; vertical-align: baseline\; visibility: inherit\; word-break: inherit\; word-wrap: inherit\; z-index: auto\; background-image: none\; background-position: initial\; background-size: initial\; background-repeat: initial\; background-attachment: initial\; background-origin: initial\; background-clip: initial\; border: none\; border-collapse: separate\; border-radius: 0px\; height: auto\; width: auto\; box-shadow: none\;"><a href="mailto:koleary@seminolebusiness.org" style="box-sizing: content-box\; background: none\; color: rgb(70\, 132\, 173)\; text-decoration-line: none\; bottom: auto\; clear: none\; content: normal\; direction: inherit\; display: inline\; empty-cells: show\; float: none\; font-style: inherit\; font-variant: inherit\; font-weight: inherit\; font-stretch: inherit\; font-size: inherit\; font-family: inherit\; left: auto\; letter-spacing: inherit\; line-height: inherit\; margin: 0px\; max-height: none\; max-width: none\; min-height: initial\; min-width: initial\; opacity: 1\; outline-offset: 0px\; overflow: visible\; padding: 0px\; position: static\; resize: none\; right: auto\; table-layout: auto\; text-align: inherit\; text-indent: inherit\; text-overflow: clip\; text-transform: inherit\; top: auto\; vertical-align: baseline\; visibility: inherit\; white-space: inherit\; word-break: inherit\; word-spacing: inherit\; word-wrap: break-word\; z-index: auto\; border: none\; border-collapse: separate\; border-radius: 0px\; height: auto\; width: auto\; box-shadow: none\;">koleary@seminolebusiness.org</a>&nbsp\;</span><br />\n<br />\n<br />\n<em style="font-family: arial\; font-size: 9px\; line-height: 14.4px\;"><font color="#000000">Attendance at or participation in&nbsp\;SCRCC&nbsp\;meetings and events constitutes an agreement by the registrant to SCRCC&rsquo\;s use and distribution (both now and in the future) of the registrant or attendee&rsquo\;s image or voice in photographs\, videotapes\, electronic reproductions and audiotapes of all events and activities</font></em></p>\n
LOCATION:St. Stephen Lutheran Church - Parish Hall 2140 West State Road 434 Altamonte/Longwood Behind Starbucks & Burger King
UID:e.2138.6399
SEQUENCE:3
DTSTAMP:20260424T024845Z
URL:https://business.seminolebusiness.org/events/details/altamonte-small-business-networking-6399
END:VEVENT

END:VCALENDAR
