BEGIN:VCALENDAR
VERSION:2.0
PRODID:-//ChamberMaster//Event Calendar 2.0//EN
METHOD:PUBLISH
X-PUBLISHED-TTL:P3D
REFRESH-INTERVAL:P3D
CALSCALE:GREGORIAN
BEGIN:VEVENT
DTSTART:20170915T113000Z
DTEND:20170915T130000Z
X-MICROSOFT-CDO-ALLDAYEVENT:FALSE
SUMMARY:Altamonte Small Business Networking - CANCELLED
DESCRIPTION:CANCELED due to Hurricane Damage!
X-ALT-DESC;FMTTYPE=text/html:<p class="MsoNormal" style="text-align: center\;"><span style="font-size:22px\;"><span style="color:#FF0000\;"><strong>CANCELED due to Hurricane Damage!</strong></span></span></p>\n
LOCATION:St. Stephen Lutheran Church - Parish Hall 2140 West State Road 434 Altamonte/Longwood Behind Starbucks & Burger King
UID:e.2138.6398
SEQUENCE:3
DTSTAMP:20260424T030812Z
URL:https://business.seminolebusiness.org/events/details/altamonte-small-business-networking-cancelled-6398
END:VEVENT

END:VCALENDAR
