BEGIN:VCALENDAR
VERSION:2.0
PRODID:-//ChamberMaster//Event Calendar 2.0//EN
METHOD:PUBLISH
X-PUBLISHED-TTL:P3D
REFRESH-INTERVAL:P3D
CALSCALE:GREGORIAN
BEGIN:VEVENT
DTSTART:20260505T150000Z
DTEND:20260505T180000Z
X-MICROSOFT-CDO-ALLDAYEVENT:FALSE
SUMMARY:Apprenticeship Strategies for Business Success
DESCRIPTION:Join CareerSource Central Florida for a business-focused apprenticeship event designed to help employers address talent shortages and build a stronger workforce. Connect with leaders in education\, workforce development\, and industry while exploring practical resources to recruit\, train\, upskill\, and retain employees through Registered Apprenticeship programs. Register today at CareerSourceCF.com/Apprenticeship.
X-ALT-DESC;FMTTYPE=text/html:<span style="font-family:century gothic\,sans-serif"><span style="font-size:11.0pt">Join CareerSource Central Florida for a business-focused apprenticeship event designed to help employers address talent shortages and build a stronger workforce. Connect with leaders in education\, workforce development\, and industry while exploring practical resources to recruit\, train\, upskill\, and retain employees through Registered Apprenticeship programs. Register today at <a href="https://go.careersourcecentralflorida.com/apprenticeship">CareerSourceCF.com/Apprenticeship</a>.</span></span>
LOCATION:Orange Technical College West Campus | 2010 Ocoee Apopka Road\, Ocoee\, FL 34761
UID:e.2138.42611
SEQUENCE:3
DTSTAMP:20260424T193105Z
URL:https://business.seminolebusiness.org/events/details/apprenticeship-strategies-for-business-success-42611
END:VEVENT

END:VCALENDAR
